BEGIN:VCALENDAR
VERSION:2.0
PRODID:-//empfängnis.com - ECPv4.6.2//NONSGML v1.0//EN
CALSCALE:GREGORIAN
METHOD:PUBLISH
X-WR-CALNAME:empfängnis.com
X-ORIGINAL-URL:http://www.xn--empfngnis-y2a.com
X-WR-CALDESC:Events for empfängnis.com
BEGIN:VEVENT
DTSTART;TZID=Europe/Berlin:20251121T140000
DTEND;TZID=Europe/Berlin:20251121T183000
DTSTAMP:20260426T032132
CREATED:20250516T193626Z
LAST-MODIFIED:20250516T193626Z
UID:3015-1763733600-1763749800@www.xn--empfngnis-y2a.com
SUMMARY:St. Pölten Lebensphase Wechseljahre
DESCRIPTION:\n\n\nKursart\nVortrag über Gynäkologisches Wissen\, angstfrei im Wechsel\, Auseinandersetzen mit dem Älterwerden\, sich neu als Frau entdecken.\n\n\nTermine\nSPEZ – Freitag\, 21.11.2025\, 14:00 – 18:30\n\n\nAdresse\n3100 St. Pölten\, Klostergasse 15\, 1. Stock\, Florian Zimmel Saal\, 3100 St. Pölten\n\n\nVeranstalter\nDiözese St. Pölten\, Abteilung Pfarren und Lebenswelten\, Team Familie\n\n\nAuskunft\nAngela Hiesinger\n\n\nTelefon\n02742/324/3339\n\n\nE-Mail\na.hiesinger@dsp.at\n\n\nReferent(en)\nMonika Kastner\, MTA beschäftig sich seit über 30 Jahren mit dem Thema Frauengesundheit\n\n\nBesonderes\nAnmeldung erforderlich: Anmeldeschluss ist der 19.11.25\, Kosten € 25\,00 inkl. kleiner Jause\n\n\nKurs – Nr.\n103217\n\n\nInfomaterial\nPDF Broschüre/Flyer\n\n\n\n
URL:http://www.xn--empfngnis-y2a.com/veranstaltung/st-poelten-lebensphase-wechseljahre/
LOCATION:Klostergasse 15\, St. Pölten\, 3100\, Österreich
END:VEVENT
BEGIN:VEVENT
DTSTART;TZID=Europe/Berlin:20251121T140000
DTEND;TZID=Europe/Berlin:20251121T183000
DTSTAMP:20260426T032132
CREATED:20250717T172325Z
LAST-MODIFIED:20250717T172325Z
UID:3044-1763733600-1763749800@www.xn--empfngnis-y2a.com
SUMMARY:St. Pölten- Lebensphase Wechseljahre
DESCRIPTION:\n\n\nKursart\nVortrag über Gynäkologisches Wissen\, angstfrei im Wechsel\, Auseinandersetzen mit dem Älterwerden\, sich neu als Frau entdecken.\n\n\nTermine\nSPEZ – Freitag\, 21.11.2025\, 14:00 – 18:30\n\n\nAdresse\n3100 St. Pölten\, Klostergasse 15\, 1. Stock\, Florian Zimmel Saal\, 3100 St. Pölten\n\n\nVeranstalter\nDiözese St. Pölten\, Abteilung Pfarren und Lebenswelten\, Team Familie\n\n\nAuskunft\nAngela Hiesinger\n\n\nTelefon\n02742/324/3339\n\n\nE-Mail\na.hiesinger@dsp.at\n\n\nReferent(en)\nMonika Kastner\, MTA beschäftig sich seit über 30 Jahren mit dem Thema Frauengesundheit\n\n\nBesonderes\nAnmeldung erforderlich: Anmeldeschluss ist der 19.11.25\, Kosten € 25\,00 inkl. kleiner Jause\n\n\n\n
URL:http://www.xn--empfngnis-y2a.com/veranstaltung/st-poelten-lebensphase-wechseljahre-2/
LOCATION:Klostergasse 15\, St. Pölten\, 3100\, Österreich
END:VEVENT
BEGIN:VEVENT
DTSTART;TZID=Europe/Berlin:20251121T140000
DTEND;TZID=Europe/Berlin:20251121T183000
DTSTAMP:20260426T032132
CREATED:20251015T193538Z
LAST-MODIFIED:20251015T193538Z
UID:3054-1763733600-1763749800@www.xn--empfngnis-y2a.com
SUMMARY:Lebensphase Wechseljahre
DESCRIPTION:Lebensphase Wechseljahre \nFrauen über 40 altern nicht\, sie reifen. \n21. November 2025\nFreitag\, 14:00–18:30 Uhr\nSt. Pölten\, Klostergasse 15 \nLebensphase Wechseljahre\nDie Lebensphase Wechseljahre ist für die meisten Frauen eine Heraus-\nforderung – manchmal von Unsicherheit begleitet. Einen besonderen\nStellenwert bekommt das „Abschied nehmen“: Der Zyklus\, der uns Jahr-\nzehnte begleitet hat\, verändert sich\, hört langsam oder plötzlich auf. Die\nbiologische Fruchtbarkeit geht zu Ende. Die Hitze des Neuanfangs bringt\nuns in Wallung! Wie gehen wir damit um? Welche Symptome / „Beschwer\nden“ können sich in dieser Zeit der Hormonumstellung noch bemerkbar\nmachen? Wie lange dauert diese Umstellungsphase? Was alles ist „normal“?\nDie Referentin\, die diese Phase bereits durchlebt hat\, möchte den Frauen\nu. a. gynäkologisches Wissen anbieten\, ihnen die Angst vor den Wechsel\njahren nehmen und sie auch ermutigen\, sich mitten im Leben mit dem Älter\nwerden auseinanderzusetzen und als Frau neu zu entdecken.\nReferentin: Monika Kastner\, MTA beschäftigt sich seit über 30 Jahren mit\ndem Thema Frauengesundheit.\nTermin: Freitag\, 21. Nov. 2025\, 14:00–18:30 Uhr mit Pause und kl. Jause\nOrt: Klostergasse 15\, 3100 St. Pölten\, 1. Stock\, Florian-Zimmel-Saal\nINFOS & ANMELDUNG\nDiözese St. Pölten\, Abteilung Pfarren & Lebenswelten\,\nAngela Hiesinger\, Klostergasse 15\, 3100 St. Pölten\,\n+43 2742 324 3339\, a.hiesinger@dsp.at\, www.dsp.at\nAnmeldeschluss: 19. November 2025 | Kosten: € 25\,– \n
URL:http://www.xn--empfngnis-y2a.com/veranstaltung/lebensphase-wechseljahre-5/
LOCATION:Klostergasse 15\, St. Pölten\, 3100\, Österreich
END:VEVENT
END:VCALENDAR