BEGIN:VCALENDAR
VERSION:2.0
PRODID:-//empfängnis.com - ECPv4.6.2//NONSGML v1.0//EN
CALSCALE:GREGORIAN
METHOD:PUBLISH
X-WR-CALNAME:empfängnis.com
X-ORIGINAL-URL:http://www.xn--empfngnis-y2a.com
X-WR-CALDESC:Events for empfängnis.com
BEGIN:VEVENT
DTSTART;TZID=Europe/Berlin:20250917T080000
DTEND;TZID=Europe/Berlin:20250921T170000
DTSTAMP:20260419T220248
CREATED:20250717T172936Z
LAST-MODIFIED:20250717T173154Z
UID:3046-1758096000-1758474000@www.xn--empfngnis-y2a.com
SUMMARY:Studiengang Theologie des Leibes in der Hochschule Heiligenkreuz
DESCRIPTION:Studienort Phil.-Theol. Hochschule Benedikt XVI. Heiligenkreuz\, Otto-von-Freising-Platz 1 2532 Heiligenkreuz im Wienerwald \nOnline-Teilnahme Bis zu drei von acht Modulen können online absolviert werden\, um einen Abschluss zu erreichen \n. tudiengebühr Pro Modul 250 € Ermäßigte Gebühr für Vollstudenten* ohne Einkommen & Ehepaare: 200 € (p. P.) \nLeitung Der Träger Initiative Christliche Familie (www.christlichefamilie.at) organisiert den Studiengang in Zusammenarbeit mit der Phil.-Theol. Hochschule Benedikt XVI. \nStudienleiter: Lic. theol. Corbin Gams MTh gams@christlichefamilie.at \nInformation und Anmeldung Britta Jacobi und Raphael Zumbühl stdl@christlichefamilie.at \nAnmeldeschluss: 15 Tage vor Modulbeginn *Bitte Immatrikulationsnachweis einer Hochschule zusenden\, z. B. Studienbescheinigung. \n
URL:http://www.xn--empfngnis-y2a.com/veranstaltung/studiengang-theologie-des-leibes-in-der-hochschule-heiligenkreuz/
LOCATION:Otto von Freising-Platz 1\, Heiligenkreuz\, 2532\, Österreich
GEO:48.0559006;16.135868
X-APPLE-STRUCTURED-LOCATION;VALUE=URI;X-ADDRESS=Otto von Freising-Platz 1 Heiligenkreuz 2532 Österreich;X-APPLE-RADIUS=500;X-TITLE=Otto von Freising-Platz 1:geo:16.135868,48.0559006
END:VEVENT
BEGIN:VEVENT
DTSTART;TZID=Europe/Berlin:20250920T083000
DTEND;TZID=Europe/Berlin:20250920T180000
DTSTAMP:20260419T220248
CREATED:20250516T192435Z
LAST-MODIFIED:20250516T192435Z
UID:3010-1758357000-1758391200@www.xn--empfngnis-y2a.com
SUMMARY:Salzburger Aufbaulehrgang Natürliche Empfängnisregelung mit Zertifikat
DESCRIPTION:19. Multiplikatorenausbildung: September 2025 – März 2026\nReferat für Ehe und Familie der Erzdiözese Salzburg in Zusammenarbeit mit INER Rötzer e.V. \n  \nZIELGRUPPE \nFrauen\, Männer\, Paare\, junge Erwachsene\, alle\, die über die NER mehr wissen wollen\, ob für die Wei­tergabe in Kurse/Beratung oder aus reinem persön­lichem Interesse. Besonders eingeladen sind auch Mitarbeiter in Ehe-Familien-Lebensberatung sowie Jugendarbeit\, Ärzte\, Hebammen\, Krankenschwes­tern\, Priester\,… \n  \nKURSBESCHREIBUNG \nIn zehn Studientagen wird das Wissen der NER nach Prof. Dr. med. Josef Rötzer – dem Begründer der ersten echten sympto-thermalen Methode\, der modernsten Form der NER – durch Fachvorträge verschiedener Referenten mit hervorragend aus­gearbeiteten Kursunterlagen und praxisbezogenem Erlernen zur Weitergabe in Kursen und Beratung vermittelt. Der Lehrgang schließt mit der Möglichkeit zur Ablegung einer schriftlichen sowie mündlichen Prüfung und dem Erlangen des Zertifikates ab. \n  \nKURSINHALTE \nAnatomie und Physiologie von Frau und Mann | Ein­fache und schwierige Zyklusverläufe | Jugendlicher Zyklus | Stillzeit | Wechseljahre | Kinderwunsch | Körperbewusstsein | Selbstannahme als Mann – als Frau | Verlässlichkeit der Lebensweise der NER |Wirkweisen der Verhütungsmittel | Verantwortete Elternschaft | Beginn des Lebens | Bedeutung der Erziehung zur Liebe von Kindern und Jugendlichen |Inhaltliche und didaktische Gestaltung von Kursen sowie Beratungsgesprächen | Biblische Menschenbild – Sexualität – Liebe und NER \n  \nAUSBILDUNGSLEITUNG/ANMELDUNG \nMag. Maria Eisl \nTel: 0676 8746 2510 \nE-Mail: johannes.czifra@eds.at \nStillbabys sind natürlich mit dabei – leider kann keine Kinderbetreuung angeboten werden. \n  \nREFERENTEN \nIris und Johannes Bucher\, Maria und Richard Büchsenmeister\, Maria und Heinrich Eisl\, Monika Kastner\, Helmut Prader\, Tatjana und Andreas Schnegg\, Manuela und Christian Fletschberger\, Elisabeth Rötzer \n  \nKURSTERMINE & ORTE \nSa. 20.09.2025     Sa. 18.10.2025 \nSa. 15.11.2025     Sa. 13.12.2025 \nSa. 10.01.2026      Sa. 07.02.2026 \njeweils von 8:30 bis 18:00 Uhr \n  \nHaus der Familie Salzburg \nHellbrunnerstr. 13 b\, 5020 Salzburg \n  \nABSCHLUSSWOCHENENDE \nFreitag\, 13.03. bis 15.03.2026 \nOrt dafür wird noch bekanntgegeben \n
URL:http://www.xn--empfngnis-y2a.com/veranstaltung/salzburger-aufbaulehrgang-natuerliche-empfaengnisregelung-mit-zertifikat/
LOCATION:Hellbrunnerstrasse 13b\, Salzburg\, 5020\, Österreich
END:VEVENT
BEGIN:VEVENT
DTSTART;TZID=Europe/Berlin:20250920T090000
DTEND;TZID=Europe/Berlin:20250920T180000
DTSTAMP:20260419T220248
CREATED:20250516T193807Z
LAST-MODIFIED:20250516T193807Z
UID:3018-1758358800-1758391200@www.xn--empfngnis-y2a.com
SUMMARY:St. Pölten Aufbaulehrgang NER
DESCRIPTION:\n\n\nKursart\nAusbildungslehrgang mit Erwerb des Zertifikates\n\n\nTermine\nA1 – Samstag\, 20.09.2025\, 09:00 – 18:00A2 – Samstag\, 18.10.2025\, 09:00 – 18:00A3 – Samstag\, 22.11.2025\, 09:00 – 18:00A4 – Samstag\, 10.01.2026\, 09:00 – 18:00A5 – Samstag\, 07.02.2026\, 09:00 – 18:00A6 – Samstag\, 07.03.2026\, 09:00 – 18:00A7 – Samstag\, 11.04.2026\, 09:00 – 18:00A7 – Sonntag\, 12.04.2026\, 09:00 – 18:00SPEZ – Samstag\, 25.04.2026\, 09:00 – 18:00\n\n\nAdresse\n3100 St. Pölten\, Eybnerstraße 5\, Bildungshaus St. Hippolyt\n\n\nVeranstalter\nDiözese St. Pölten\, Abteilung Pfarren und Lebenswelten\n\n\nAuskunft\nAngela Hiesinger\, Abteilung Pfarren und Lebenswelten\n\n\nTelefon\n02742/324/3339\n\n\nE-Mail\na.hiesinger@dsp.at\n\n\nReferent(en)\nElisabeth und Johannes Hackl\, Pädagogen\, zert. INER-Mitarbeiter\nDr. Karin Kroboth-Svoboda\nProf. Dr. Helmut Prader\nElisabeth Rötzer\n\n\nBesonderes\nAnmeldung erforderlich! Begrenzte Teilnehmerzahl\nAnmeldung nur über das Anmeldetool möglich!\nPauschalbeitrag für 8 Studientage € 420\,00 für Einzelpersonen\n€ 520\,00 für Ehepaare/Brautpaare inkl. Kursmappe p. Person sowie die Pflichtlektüre (3 Bücher)\n\n\nKurs – Nr.\n103207\n\n\nInfomaterial\nPDF Broschüre/Flyer\n\n\n\n
URL:http://www.xn--empfngnis-y2a.com/veranstaltung/st-poelten-aufbaulehrgang-ner/
LOCATION:Eybnerstraße 5\, St. Pölten\, 3100\, Österreich
GEO:48.205718;15.6305372
X-APPLE-STRUCTURED-LOCATION;VALUE=URI;X-ADDRESS=Eybnerstraße 5 St. Pölten 3100 Österreich;X-APPLE-RADIUS=500;X-TITLE=Eybnerstraße 5:geo:15.6305372,48.205718
END:VEVENT
BEGIN:VEVENT
DTSTART;TZID=Europe/Berlin:20250920T090000
DTEND;TZID=Europe/Berlin:20250920T180000
DTSTAMP:20260419T220248
CREATED:20250717T171805Z
LAST-MODIFIED:20250717T171805Z
UID:3042-1758358800-1758391200@www.xn--empfngnis-y2a.com
SUMMARY:St. Pölten NER Aufbaulehrgang
DESCRIPTION:\n\n\nKursart\nAusbildungslehrgang mit Erwerb des Zertifikates\n\n\nTermine\nA1 – Samstag\, 20.09.2025\, 09:00 – 18:00A2 – Samstag\, 18.10.2025\, 09:00 – 18:00A3 – Samstag\, 22.11.2025\, 09:00 – 18:00A4 – Samstag\, 10.01.2026\, 09:00 – 18:00A5 – Samstag\, 07.02.2026\, 09:00 – 18:00A6 – Samstag\, 07.03.2026\, 09:00 – 18:00A7 – Samstag\, 11.04.2026\, 09:00 – 18:00A7 – Sonntag\, 12.04.2026\, 09:00 – 18:00SPEZ – Samstag\, 25.04.2026\, 09:00 – 18:00\n\n\nAdresse\n3100 St. Pölten\, Eybnerstraße 5\, Bildungshaus St. Hippolyt\n\n\nVeranstalter\nDiözese St. Pölten\, Abteilung Pfarren und Lebenswelten\n\n\nAuskunft\nAngela Hiesinger\, Abteilung Pfarren und Lebenswelten\n\n\nTelefon\n02742/324/3339\n\n\nE-Mail\na.hiesinger@dsp.at\n\n\nReferent(en)\nElisabeth und Johannes Hackl\, Pädagogen\, zert. INER-Mitarbeiter\nDr. Karin Kroboth-Svoboda\nProf. Dr. Helmut Prader\nElisabeth Rötzer\n\n\nBesonderes\nAnmeldung erforderlich! Begrenzte Teilnehmerzahl\nAnmeldung nur über das Anmeldetool möglich!\nPauschalbeitrag für 8 Studientage € 420\,00 für Einzelpersonen\n€ 520\,00 für Ehepaare/Brautpaare inkl. Kursmappe p. Person sowie die Pflichtlektüre (3 Bücher)\n\n\n\n
URL:http://www.xn--empfngnis-y2a.com/veranstaltung/st-poelten-ner-aufbaulehrgang/
LOCATION:Eybnerstraße 5\, St. Pölten\, 3100\, Österreich
GEO:48.205718;15.6305372
X-APPLE-STRUCTURED-LOCATION;VALUE=URI;X-ADDRESS=Eybnerstraße 5 St. Pölten 3100 Österreich;X-APPLE-RADIUS=500;X-TITLE=Eybnerstraße 5:geo:15.6305372,48.205718
END:VEVENT
END:VCALENDAR