BEGIN:VCALENDAR
VERSION:2.0
PRODID:-//empfängnis.com - ECPv4.6.2//NONSGML v1.0//EN
CALSCALE:GREGORIAN
METHOD:PUBLISH
X-WR-CALNAME:empfängnis.com
X-ORIGINAL-URL:http://www.xn--empfngnis-y2a.com
X-WR-CALDESC:Events for empfängnis.com
BEGIN:VEVENT
DTSTART;TZID=Europe/Berlin:20250722T080000
DTEND;TZID=Europe/Berlin:20250727T170000
DTSTAMP:20260425T203533
CREATED:20250717T173843Z
LAST-MODIFIED:20250717T173843Z
UID:3048-1753171200-1753635600@www.xn--empfngnis-y2a.com
SUMMARY:Jungfamilientreffen in Kremsmünster
DESCRIPTION:\nDas Jungfamilientreffen 2025\nEin Fest für die ganze Familie\nAndere Familien treffen\, kennenlernen\, auftanken\, austauschen\, ermutigen\, zusammen beten\, Freundschaften pflegen\, die Ehe stärken und Sakramente empfangen. Miteinander feiern! \n\n\n„Gott sah: Es ist sehr gut!” vgl. Gen 1\,33 \n„Liebt euer Leben und habt keine Angst!“ Muttergottes in Medjugorje“ \n\n\nDas Jungfamilientreffen 2025 im Stift Kremsmünster beginnt am Dienstag 22. Juli um 16.00h mit der Heiligen Messe im Zelt (die Stiftskirche ist noch in Renovierung) und dauert bis zum Sonntag 27. Juli nach dem Mittagessen. Das vorläufige Programm ist im Menü oben rechts abrufbar. \nDas Jugendtreffen findet in der Woche davor vom 15. bis 20. Juli statt. \n\n
URL:http://www.xn--empfngnis-y2a.com/veranstaltung/jungfamilientreffen-in-kremsmuenster/
LOCATION:Stift 1\, Kremsmünster\, 4550\, Österreich
END:VEVENT
BEGIN:VEVENT
DTSTART;TZID=Europe/Berlin:20250727T150000
DTEND;TZID=Europe/Berlin:20250727T180000
DTSTAMP:20260425T203533
CREATED:20250717T171425Z
LAST-MODIFIED:20250717T171449Z
UID:3039-1753628400-1753639200@www.xn--empfngnis-y2a.com
SUMMARY:Wiener Neustadt- Grundkurs NER
DESCRIPTION:\n\n\nKursart\nGrundkurs in 3 Teilen\n\n\nTermine\nG1 – Sonntag\, 27.07.2025\, 15:00 – 18:00\n\n\nAdresse\n2700 Wiener Neustadt\, Zulingergasse 6\n\n\nVeranstalter\nAgnes und Lorenz Scheibenreif\n\n\nAuskunft\nAgnes Scheibenreif\n06508831507\nagnes.scheibenreif@gmx.at\n\n\nTelefon\n06508831507\n\n\nE-Mail\nagnes.scheibenreif@gmx.at\n\n\nReferent(en)\nAgnes und Lorenz Scheibenreif\n\n\nBesonderes\nZielgruppe: Jugendliche ab 16 Jahren\, Paare\, Paare mit (unerfülltem)\nKinderwunsch\, Interessierte\, Singles (sowohl weiblich als auch männlich)\nKosten:\n€ 150 pro Person und Paar\, € 70 für alle unter 25\nBuch und Thermometer können am 1. Kurstag erworben werden\, Bezahlung vor Ort\nAnmeldung erforderlich!\n1. Termin 27.7.2025 15 bis 18 Uhr\n2. und 3. Termin: werden gemeinsam vereinbart\n\n\n\n
URL:http://www.xn--empfngnis-y2a.com/veranstaltung/wiener-neustadt-grundkurs-ner/
LOCATION:Zulingergasse 6\, Wiener Neustadt\, 2700\, Österreich
END:VEVENT
END:VCALENDAR