BEGIN:VCALENDAR
VERSION:2.0
PRODID:-//empfängnis.com - ECPv4.6.2//NONSGML v1.0//EN
CALSCALE:GREGORIAN
METHOD:PUBLISH
X-WR-CALNAME:empfängnis.com
X-ORIGINAL-URL:http://www.xn--empfngnis-y2a.com
X-WR-CALDESC:Events for empfängnis.com
BEGIN:VEVENT
DTSTART;TZID=Europe/Berlin:20211017T090000
DTEND;TZID=Europe/Berlin:20211017T180000
DTSTAMP:20260419T195102
CREATED:20210917T200209Z
LAST-MODIFIED:20210917T200332Z
UID:2800-1634461200-1634493600@www.xn--empfngnis-y2a.com
SUMMARY:Zertifikatskurs NER in 7 Modulen
DESCRIPTION:\n\n\nKursart\nZertifikatskurs NER in 7 Modulen\, jeweils an Sonntagen 9-18 Uhr\n\n\nTermine\nA1 – Sonntag\, 06.06.2021\, 09:00 – 18:00A2 – Sonntag\, 20.06.2021\, 09:00 – 18:00A3 – Sonntag\, 11.07.2021\, 09:00 – 18:00A4 – Sonntag\, 29.08.2021\, 09:00 – 18:00A5 – Sonntag\, 03.10.2021\, 09:00 – 18:00A6 – Sonntag\, 17.10.2021\, 09:00 – 18:00A7 – Samstag\, 13.11.2021\, 09:00 – 21:30A7 – Sonntag\, 14.11.2021\, 09:00 – 17:00\n\n\nAdresse\n3100 St. Pölten\, Klostergasse 15\, Pastorale Dienste\, Florian Zimmel Saal\, St. Pölten\n\n\nVeranstalter\nFachstelle Beziehung Ehe und Familie\, Klostergasse 15\, 3100 St. Pölten\n\n\nAuskunft\nAngela Hiesinger\n\n\nTelefon\n27423243339\n\n\nE-Mail\na.hiesinger@kirche.at\n\n\nReferent(en)\nElisabeth und Johannes Hackl\, Dr. Karin Kroboth-Svoboda\, Prof. Dr. Helmut Prader\, Elisabeth Rötzer\n\n\nBesonderes\nAnmeldung erforderlich! unter a.hiesinger@kirche.at oder http://anmeldung.dsp.at\, Anmeldeschluss 15.2.2021\nKursbeitrag inkl. Kursmaterial € 390\,00 p.Paar\, € 310\,00 p.Person\, € 250\,00 f. SchülerInnen und StudentInnen\nzuzüglich € 58\,00 f. Pflichtlektüre\, Ratenzahlung ist auf Anfrage möglich! Kinderbetreuung nur in dringenden Fällen: € 10\,00 p.Tag\, € 5\,00 f. Geschwister\nStillbabys sind natürlich mit dabei!\nMitzubringen: Schreibzeug\, Block und das Buch von Prof. Rötzer\n\n\n\n
URL:http://www.xn--empfngnis-y2a.com/veranstaltung/zertifikatskurs-ner-in-7-modulen-copy-2/
LOCATION:Klostergasse 15\, Sankt Pölten\, 3100\, Österreich
GEO:48.2067871;15.6265436
X-APPLE-STRUCTURED-LOCATION;VALUE=URI;X-ADDRESS=Klostergasse 15 Sankt Pölten 3100 Österreich;X-APPLE-RADIUS=500;X-TITLE=Klostergasse 15:geo:15.6265436,48.2067871
END:VEVENT
END:VCALENDAR