BEGIN:VCALENDAR
VERSION:2.0
PRODID:-//empfängnis.com - ECPv4.6.2//NONSGML v1.0//EN
CALSCALE:GREGORIAN
METHOD:PUBLISH
X-WR-CALNAME:empfängnis.com
X-ORIGINAL-URL:http://www.xn--empfngnis-y2a.com
X-WR-CALDESC:Events for empfängnis.com
BEGIN:VEVENT
DTSTART;TZID=Europe/Berlin:20180610T160000
DTEND;TZID=Europe/Berlin:20180610T190000
DTSTAMP:20260421T054838
CREATED:20180528T162240Z
LAST-MODIFIED:20180528T162240Z
UID:2144-1528646400-1528657200@www.xn--empfngnis-y2a.com
SUMMARY:Würflach: Grundkurs an 3 Abenden G1
DESCRIPTION:\n\n\nKursart\nGrundkurs an 3 Abenden\n\n\nTermine\nG1 – Sonntag\, 10.06.2018\, 16:00 – 19:00 \nG2 – Sonntag\, 17.06.2018\, 16:00 – 19:00 \nG3 – Sonntag\, 15.07.2018\, 16:00 – 19:00\n\n\nAdresse\n2732 Würflach\, Neunkirchnerstraße 81\n\n\nVeranstalter\nINER\n\n\nAuskunft\nAgnes Scheibenreif:\nTel. Nr. 06508831507\nEmail: agnes.scheibenreif@gmx.at\n\n\nTelefon\n06508831507\n\n\nE-Mail\nagnes.scheibenreif@gmx.at\n\n\nReferent(en)\nAgnes und Lorenz Scheibenreif\n\n\nBesonderes\nAnmeldung erforderlich\, Kursbeitrag: €60 pro Person\, €80\,00 pro Paar\, inkl. umfangreiche Kursunterlagen und Buch (Ermäßigung auf Anfrage)\n\n\n\n
URL:http://www.xn--empfngnis-y2a.com/veranstaltung/wuerflach-grundkurs-an-3-abenden-g1/
LOCATION:Neunkirchnerstraße 81\, Würflach\, 2732\, Österreich
END:VEVENT
END:VCALENDAR