BEGIN:VCALENDAR
VERSION:2.0
PRODID:-//empfängnis.com - ECPv4.6.2//NONSGML v1.0//EN
CALSCALE:GREGORIAN
METHOD:PUBLISH
X-WR-CALNAME:empfängnis.com
X-ORIGINAL-URL:http://www.xn--empfngnis-y2a.com
X-WR-CALDESC:Events for empfängnis.com
BEGIN:VEVENT
DTSTART;TZID=Europe/Berlin:20200420T193000
DTEND;TZID=Europe/Berlin:20200420T213000
DTSTAMP:20260420T053706
CREATED:20200303T121414Z
LAST-MODIFIED:20200303T121550Z
UID:2646-1587411000-1587418200@www.xn--empfngnis-y2a.com
SUMMARY:Wien: Grundkurs Natürliche Empfängnisregelung  G3
DESCRIPTION:Grundkurs Natürliche Empfängnisregelung \n\n\n\n\n\n\n\n\nG1 – Montag\, 23.03.2020\, G2 – Montag\, 30.03.2020\, \nG3 – Montag\, 20.04.2020\, jeweils 19:30 – 21:30\n\n\n\n1010 Wien\, Spiegelgasse 3/8\,\n\n\n\n\n\n\n\nAnmeldung: inerwien3@gmail.com\n\n\n\n\n\n\n\nReferenten: Mag. Elisabeth und Mag. Herwig Födermayr\n\n\n\nAnmeldung ist erforderlich. Begrenzte Teilnehmerzahl.\nKursbeitrag: 50 € Paar\, 40 € Einzelperson\n\n\n\n
URL:http://www.xn--empfngnis-y2a.com/veranstaltung/wien-grundkurs-natuerliche-empfaengnisregelung-copy-2/
LOCATION:Spiegelgasse 8/8\, Wien\, 1010\, Österreich
END:VEVENT
END:VCALENDAR