BEGIN:VCALENDAR
VERSION:2.0
PRODID:-//empfängnis.com - ECPv4.6.2//NONSGML v1.0//EN
CALSCALE:GREGORIAN
METHOD:PUBLISH
X-WR-CALNAME:empfängnis.com
X-ORIGINAL-URL:http://www.xn--empfngnis-y2a.com
X-WR-CALDESC:Events for empfängnis.com
BEGIN:VEVENT
DTSTART;TZID=Europe/Berlin:20181006T090000
DTEND;TZID=Europe/Berlin:20181006T180000
DTSTAMP:20260421T040419
CREATED:20180528T155314Z
LAST-MODIFIED:20180528T155314Z
UID:2125-1538816400-1538848800@www.xn--empfngnis-y2a.com
SUMMARY:Wien: Aufbaukurs Natürlicher Empfängnisregelung Okt. 2018 bis Mai 2019
DESCRIPTION:Termine:  \nDer Aufbaukurs wird in 7 Teilen abgehalten. \nTeil 1 bis 6 findet jeweils an einem Samstag statt\, von 9:00 Uhr bis 18:00 Uhr. \nTeil 1: Samstag\, 6.Oktober 2018 \nTeil 2: Samstag\, 20. Oktober 2018 \nTeil 3: Samstag\, 17. November 2018 \nTeil 4: Samstag\, 12. Jänner 2019 \nTeil 5: Samstag\, 16. Februar 2019 \nTeil 6: Samstag\, 16.März 2019 \nTeil 7 besteht aus Samstag/Sonntag: 4. bis 5.Mai 2019 Beginn am Samstag um 9:00 und endet am Sonntag um 18:00 Uhr. \nOrt: Teil 1-6: A-1210 Wien\, Kinzerplatz 19\, Pfarre Donaufeld\, Seelsorgeraum \nTeil 7: A-1190 Wien\, Schönstatt am Kahlenberg Sulzwiese\, mit Übernachtung (Nächtigung und Verpflegung im Haus bezahlen) \nLeitung des Seminars: Elisabeth und Johannes Hackl\, Dr. med. Karin Kroboth-Svoboda Elisabeth und Josef Weinlich Teil 7 auch mit Elisabeth Rötzer\, INER-Präsidentin\, Pater Josef Wurzer Kalasantiner\, Doris und Michael Szedlacek Information und Anmeldung: Familie Weinlich\, Donaufelder Str. 40/1/3\, 1210 Wien\, Tel.: 01/272 13 52\, email: inerwien@hotmail.com Kursbeitrag: (inkl. umfangreiches Kursmaterial) Für Nichtmitglieder: Einzelperson € 300\,– ; Ehepaar € 400\,– Für INER Mitglieder: Einzelperson € 220.–\, Ehepaar € 320\,– (siehe www.iner.org) Bitte zahlen Sie den Betrag auf das INER Konto in Österreich ein: (Ratenzahlung und Ermäßigung auf Anfrage) Inst. f. Natürl. Empfängnisregelung Prof. Dr. J.Rötzer Allgemeine Sparkasse Oberösterreich\, Bank AG IBAN: AT12 2032 0061 0001 0840 Veranstalter: Institut für Natürliche Empfängnisregelung Prof. Dr. J. Rötzer e.V. Prof. Rötzer ist der Begründer der ersten echten sympto-thermalen Vorgangsweise. \nWer ist angesprochen und eingeladen:\nAlle\, die sich mit der Natürlichen Empfängnisregelung (NER) näher befassen möchten – sei es aus persönlichem Interesse oder um es anderen besser erklären zu können – sind zur Teilnahme an diesem Intensivseminar herzlich eingeladen! Die Bedeutung der NER geht weit über die Fragen der Empfängnisregelung hinaus. Die Selbstbeobachtung führt zu einem intensiveren Frau-Bewusstsein mit besserer Selbstannahme als Frau\, auch der alleinstehenden Frau. Der mitarbeitende Mann findet zu einem vertieften Verständnis der fraulichen Eigenart. So können Probleme gemeinsam leichter bewältigt werden\, was zu einer Vertiefung der Liebe führt und zahlreiche positive Auswirkungen hat. Auch Männer sind daher herzlichst eingeladen! \nInhalte des Intensivseminars:  Anatomie und Physiologie der Frau\, soweit erforderlich für das Verständnis des weiblichen Zyklus  Anatomie und Physiologie des Mannes\, die Zeugung betreffend  Verschiedenste Formen des Zyklusablaufes  Was ist ein unregelmäßiger Zyklus\, ein schwieriger Zyklus? Wie gehe ich damit um?  Pubertät\, Stillzeit\, Wechseljahre  Kinderwunsch  Was ein NER-Berater über Verhütungsmittel wissen sollte!  Wie spreche ich mit anderen über NER?  Wie kann man einen Kurs für Anfänger gestalten?  Menschenbild – Sexualität – Empfängnisregelung  NER – Sakramentalität der Ehe  NER – Bedeutung für die Jugend\nBitte nicht vergessen: Papier\, Schreibzeug und das Buch von Prof.Rötzer! \nAnmeldung: Fam. Weinlich\, Donaufelder Str.40/1/3\, 1210 Wien; E-Mail:inerwien@hotmail.com \n
URL:http://www.xn--empfngnis-y2a.com/veranstaltung/wien-aufbaukurs-natuerlicher-empfaengnisregelung-okt-2018-bis-mai-2019/
LOCATION:Kinzer Platz 19\, Wien\, 1210\, Österreich
GEO:48.2523957;16.4079659
X-APPLE-STRUCTURED-LOCATION;VALUE=URI;X-ADDRESS=Kinzer Platz 19 Wien 1210 Österreich;X-APPLE-RADIUS=500;X-TITLE=Kinzer Platz 19:geo:16.4079659,48.2523957
END:VEVENT
END:VCALENDAR