BEGIN:VCALENDAR
VERSION:2.0
PRODID:-//empfängnis.com - ECPv4.6.2//NONSGML v1.0//EN
CALSCALE:GREGORIAN
METHOD:PUBLISH
X-WR-CALNAME:empfängnis.com
X-ORIGINAL-URL:http://www.xn--empfngnis-y2a.com
X-WR-CALDESC:Events for empfängnis.com
BEGIN:VEVENT
DTSTART;TZID=Europe/Berlin:20200419T170000
DTEND;TZID=Europe/Berlin:20200419T200000
DTSTAMP:20260420T073636
CREATED:20200303T115705Z
LAST-MODIFIED:20200303T115744Z
UID:2628-1587315600-1587326400@www.xn--empfngnis-y2a.com
SUMMARY:Werschenschlag: Grundkurs in 3. Teil
DESCRIPTION:GRUNDKURS 3 Abende\, jeweils 17-20 Uhr \nStart: Sonntag\, 22. Mrz 2020 Folgetermine: Sa.\,4. April / 19. April 2020 \nKosten inkl. Buch und Kursunterlagen 65\,00 (pro Paar) 60\,00 (pro Einzelperson) 45\,00 (fr SchülerInnen und StudentInnen)\nWo: Werschenschlag 1\, 3531 Niedernondorf\nReferentin: Frau Maria Penz zertifizierte INER-Mitarbeiterin\, www.iner.org\nAnmeldung erforderlich\nFachstelle Beziehung-Ehe-Familie 3100 St. Plten\, Klostergasse 15 \nAnmeldung und Information: Maria Penz T: 0680 / 32 83 87 2 oder E: penz.maria@live.at \n
URL:http://www.xn--empfngnis-y2a.com/veranstaltung/werschenschlag-grundkurs-in-3-teilen-copy-copy/
LOCATION:Werschenschlag 1\, Niedernorndorf\, 3531\, Österreich
END:VEVENT
END:VCALENDAR