BEGIN:VCALENDAR
VERSION:2.0
PRODID:-//empfängnis.com - ECPv4.6.2//NONSGML v1.0//EN
CALSCALE:GREGORIAN
METHOD:PUBLISH
X-WR-CALNAME:empfängnis.com
X-ORIGINAL-URL:http://www.xn--empfngnis-y2a.com
X-WR-CALDESC:Events for empfängnis.com
BEGIN:VEVENT
DTSTART;TZID=Europe/Berlin:20170517T190000
DTEND;TZID=Europe/Berlin:20170517T210000
DTSTAMP:20260421T154817
CREATED:20170502T102054Z
LAST-MODIFIED:20170502T102054Z
UID:1776-1495047600-1495054800@www.xn--empfngnis-y2a.com
SUMMARY:Vortrag über Natürliche Empfängnisregelung (NER)
DESCRIPTION:Vortrag über Natürliche Empfängnisregelung (NER)\nAm Mittwoch\, 17. Mai 2017 hält Mag.rer.nat. Dr. Barbara M. Sauberer um  19 Uhr im Pfarrhaus einen Vortrag über Natürliche Empfängnisregelung (NER nach Prof. Dr. med. Josef Rötzer)\nDie natürliche Empfängnisregelung (NER nach Prof. Dr. med. Josef Rötzer) ist ein Weg\, eine Schwangerschaft anzustreben oder sicher zu vermeiden. NER beruht auf der wissenschaftlichen Tatsache\, dass im Zyklus der Frau die meisten Tage unfruchtbar sind.\nNER kann bei regelmäßigen und unregelmäßigen Zyklen\, bei Schichtdienst\, Kinderwunsch\, nach der Geburt\, in der Stillzeit und den Wechseljahren mit hoher Zuverlässigkeit angewendet werden. Bei Kinderwunsch hilft die NER die optimal fruchtbare Zeit zu bestimmen!\nNER ist gesund und sicher (PI = 0 – 0\,2!)\, nebenwirkungsfrei\, umweltbewahrend und einfach in der Anwendung.\nMag.rer.nat. Dr. Barbara M. Sauberer ist zertifizierte INERMitarbeiterin am Institut für Natürliche Empfängnisregelung. (www.iner.org)\nDer Eintritt ist frei. Spenden werden zugunsten von Mary´s Meals (www.marysmeals.at) erbeten. \n
URL:http://www.xn--empfngnis-y2a.com/veranstaltung/vortrag-ueber-natuerliche-empfaengnisregelung-ner/
LOCATION:Pfarrhaus Preßbaum\, Preßbaum\, 3021\, Österreich
GEO:48.179303;16.0776521
X-APPLE-STRUCTURED-LOCATION;VALUE=URI;X-ADDRESS=Pfarrhaus Preßbaum Preßbaum 3021 Österreich;X-APPLE-RADIUS=500;X-TITLE=Pfarrhaus Preßbaum:geo:16.0776521,48.179303
END:VEVENT
END:VCALENDAR