BEGIN:VCALENDAR
VERSION:2.0
PRODID:-//empfängnis.com - ECPv4.6.2//NONSGML v1.0//EN
CALSCALE:GREGORIAN
METHOD:PUBLISH
X-WR-CALNAME:empfängnis.com
X-ORIGINAL-URL:http://www.xn--empfngnis-y2a.com
X-WR-CALDESC:Events for empfängnis.com
BEGIN:VEVENT
DTSTART;TZID=Europe/Berlin:20191207T140000
DTEND;TZID=Europe/Berlin:20191207T163000
DTSTAMP:20260420T125146
CREATED:20191120T094235Z
LAST-MODIFIED:20191120T094235Z
UID:2563-1575727200-1575736200@www.xn--empfngnis-y2a.com
SUMMARY:VON DER TRAUER zur Freude - Monatstreffen
DESCRIPTION:\nVON DER TRAUER zur Freude – Monatstreffen\nfür Menschen in Trennung\, Scheidung\, Witwenschaft und Wiederverheiratung\n\n\nSamstag\, 7. Dezember 2019 – 14:00 bis 16:30\n\n\n\n\n\n\n\nEs schmerzt eine Trennung? Sie leiden an einer familiären Krise? Als Betroffene\, die das Leid und die Not mit all den Schwierigkeiten kennen\, bieten wir Hilfe und Verständnis- durch Austausch\, Gebet und die Lehre der Kirche. \nKeine Anmeldung erforderlich!\nDer Einstieg ist zu jedem Zeitpunkt möglich!\n\n\n\n\nReferent:\n\nWaltraut Sennewald\, Astrid Herber – Famile Solitude Myriam\n\n\n\nLeitung:\n\nInformation: Mag. Markus Mucha\, E: m.mucha@kirche.at\n\n\n\nVeranstaltungsart:\n\nTreffpunkt\, Club\n\n\nWo: Bildungshaus St. Hippolyt\nEybnerstraße 5\n\n3100  St. Pölten\nÖsterreich\n\n\n\nVeranstalter:\n\nFamilie Solitude Myriam in Zusammenarbeit mit der Diözese St. Pölten\, Pastorale Dienste\, Fachstelle Beziehung-Ehe-Familie\n\n\n\nZielgruppen:\n\nalle Interessierte\n\n\n\n
URL:http://www.xn--empfngnis-y2a.com/veranstaltung/von-der-trauer-zur-freude-monatstreffen/
LOCATION:Eybner Straße 5\, St. Pölten\, 3100\, Österreich
GEO:48.205718;15.6305372
X-APPLE-STRUCTURED-LOCATION;VALUE=URI;X-ADDRESS=Eybner Straße 5 St. Pölten 3100 Österreich;X-APPLE-RADIUS=500;X-TITLE=Eybner Straße 5:geo:15.6305372,48.205718
END:VEVENT
END:VCALENDAR