BEGIN:VCALENDAR
VERSION:2.0
PRODID:-//empfängnis.com - ECPv4.6.2//NONSGML v1.0//EN
CALSCALE:GREGORIAN
METHOD:PUBLISH
X-WR-CALNAME:empfängnis.com
X-ORIGINAL-URL:http://www.xn--empfngnis-y2a.com
X-WR-CALDESC:Events for empfängnis.com
BEGIN:VEVENT
DTSTART;TZID=Europe/Berlin:20180707T140000
DTEND;TZID=Europe/Berlin:20180707T163000
DTSTAMP:20260421T091016
CREATED:20180118T174902Z
LAST-MODIFIED:20180118T174928Z
UID:2079-1530972000-1530981000@www.xn--empfngnis-y2a.com
SUMMARY:Von der Trauer zur Freude
DESCRIPTION:Monatstreffen für Menschen in Trennung\, Scheidung\, Wiederverheiratung und Witwenschaft \nSamstag\, 13.1.2018\, 3.2.\, 3.3.\, 2.6.\, 7.7.2018\, 14.00 bis 16.30 Uhr \nBildungshaus St. Hippolyt\, Eybnerstr. 5\, St. Pölten \nLeitung: Waltraut Sennewald – Jörg Schröter (Solitude Myriam FSM) \nTeilnahme frei\, keine Anmeldung erforderlich\, Einstieg zu jedem Termin möglich! \nInformation: Mag. Markus Mucha\, T: 02742/324/3344 \n  \nGenauere Informationen finden Sie unter: http://familie.dsp.at \n
URL:http://www.xn--empfngnis-y2a.com/veranstaltung/von-der-trauer-zur-freude-2-copy-copy-copy-copy/
LOCATION:Eybner Straße 5\, St. Pölten\, 3100\, Österreich
GEO:48.205718;15.6305372
X-APPLE-STRUCTURED-LOCATION;VALUE=URI;X-ADDRESS=Eybner Straße 5 St. Pölten 3100 Österreich;X-APPLE-RADIUS=500;X-TITLE=Eybner Straße 5:geo:15.6305372,48.205718
END:VEVENT
END:VCALENDAR