BEGIN:VCALENDAR
VERSION:2.0
PRODID:-//empfängnis.com - ECPv4.6.2//NONSGML v1.0//EN
CALSCALE:GREGORIAN
METHOD:PUBLISH
X-WR-CALNAME:empfängnis.com
X-ORIGINAL-URL:http://www.xn--empfngnis-y2a.com
X-WR-CALDESC:Events for empfängnis.com
BEGIN:VEVENT
DTSTART;TZID=Europe/Berlin:20190130T180000
DTEND;TZID=Europe/Berlin:20190130T220000
DTSTAMP:20260420T194220
CREATED:20190117T114511Z
LAST-MODIFIED:20190117T114511Z
UID:2381-1548871200-1548885600@www.xn--empfngnis-y2a.com
SUMMARY:Vöcklabruck - Lebensphase Wechseljahre
DESCRIPTION:4840 Vöcklabruck – Lebensphase Wechseljahre\n\n\n\n\nKursart\nSpezielle Veranstaltung\n\n\nTermine\nSPEZ – Mittwoch\, 30.01.2019\, 18:00 – 22:00\n\n\nAdresse\n4840 Vöcklabruck\, Ferdinand-Öttl-Straße 19\n\n\nVeranstalter\nVolkshochschule der Arbeiterkammer\n\n\nAuskunft\nDI Anne Kapeller\n\n\nTelefon\n050 6906-5229\n\n\nE-Mail\nvoecklabruck@vhsooe.at\n\n\nReferent(en)\nMonika Kastner\n\n\nBesonderes\nkostenlos\n\n\n\n\n
URL:http://www.xn--empfngnis-y2a.com/veranstaltung/voecklabruck-lebensphase-wechseljahre/
LOCATION:Ferdinand-Öttl-Straße\, Vöcklabruck\, 4840\, Österreich
GEO:48.0049328;13.6512764
X-APPLE-STRUCTURED-LOCATION;VALUE=URI;X-ADDRESS=Ferdinand-Öttl-Straße Vöcklabruck 4840 Österreich;X-APPLE-RADIUS=500;X-TITLE=Ferdinand-Öttl-Straße:geo:13.6512764,48.0049328
END:VEVENT
END:VCALENDAR