BEGIN:VCALENDAR
VERSION:2.0
PRODID:-//empfängnis.com - ECPv4.6.2//NONSGML v1.0//EN
CALSCALE:GREGORIAN
METHOD:PUBLISH
X-WR-CALNAME:empfängnis.com
X-ORIGINAL-URL:http://www.xn--empfngnis-y2a.com
X-WR-CALDESC:Events for empfängnis.com
BEGIN:VEVENT
DTSTART;TZID=Europe/Berlin:20191006T140000
DTEND;TZID=Europe/Berlin:20191006T160000
DTSTAMP:20260420T143917
CREATED:20190913T084559Z
LAST-MODIFIED:20190913T084559Z
UID:2496-1570370400-1570377600@www.xn--empfngnis-y2a.com
SUMMARY:Vater sein – Nimm die Herausforderung an!
DESCRIPTION:Vater sein – Nimm die Herausforderung an! \nSchönstattbewegung St. Pölten: So\, 6.10. 2019 14 Uhr \nPfarrhof Nöchling\,  Nöchling 1\, 3691 Nöchling \nReferenten: Eva-Maria und Johannes Höllwerth\,  \nVortrag\, Paargespräch\, Kinderbetreuung\, Kaffee und Kuchen \n
URL:http://www.xn--empfngnis-y2a.com/veranstaltung/vater-sein-nimm-die-herausforderung-an/
LOCATION:Nöchling 1\, Nöchling\, 3691\, Österreich
END:VEVENT
END:VCALENDAR