BEGIN:VCALENDAR
VERSION:2.0
PRODID:-//empfängnis.com - ECPv4.6.2//NONSGML v1.0//EN
CALSCALE:GREGORIAN
METHOD:PUBLISH
X-WR-CALNAME:empfängnis.com
X-ORIGINAL-URL:http://www.xn--empfngnis-y2a.com
X-WR-CALDESC:Events for empfängnis.com
BEGIN:VEVENT
DTSTART;TZID=Europe/Berlin:20180121T190000
DTEND;TZID=Europe/Berlin:20180121T220000
DTSTAMP:20260421T155919
CREATED:20171213T103343Z
LAST-MODIFIED:20171213T121353Z
UID:2057-1516561200-1516572000@www.xn--empfngnis-y2a.com
SUMMARY:Trau dich...Gemeinsam auf dem richtigen Kurs
DESCRIPTION:Startveranstaltung \n6 Abende für eine Leben lang…Sehnsucht nach mehr \nEhevorbereitung im Stift Seitenstetten \n21.1.2018 bis 25.2.2018 \njeweils Sonntag 19-22-Uhr \nweitere Informationen www.traut-euch.at \n\nKosten:\n\n€ 110\,- (pro Paar)\n\n\n\nReferenten: \n\nGabriele und Andreas Zeitlinger\, Begleitfamilie\n\n\n\n\nInformation und Anmeldung: familie.zeitlinger@gmx.at oder T: 0664/73878237\n\n\n\nVeranstaltungsart: \n\nSeminar\, Kurs\, Workshop\n\n\n\nVeranstalter: \n\nSchönstatt Gemeinschaft\n\n\n\nZielgruppen: \n\nBrautpaare\n\n\n
URL:http://www.xn--empfngnis-y2a.com/veranstaltung/trau-dich-gemeinsam-auf-dem-richtigen-kurs/
LOCATION:Am Klosterberg 1\, Seitenstetten\, 3353\, Österreich
GEO:48.0358577;14.6556809
X-APPLE-STRUCTURED-LOCATION;VALUE=URI;X-ADDRESS=Am Klosterberg 1 Seitenstetten 3353 Österreich;X-APPLE-RADIUS=500;X-TITLE=Am Klosterberg 1:geo:14.6556809,48.0358577
END:VEVENT
END:VCALENDAR