BEGIN:VCALENDAR
VERSION:2.0
PRODID:-//empfängnis.com - ECPv4.6.2//NONSGML v1.0//EN
CALSCALE:GREGORIAN
METHOD:PUBLISH
X-WR-CALNAME:empfängnis.com
X-ORIGINAL-URL:http://www.xn--empfngnis-y2a.com
X-WR-CALDESC:Events for empfängnis.com
BEGIN:VEVENT
DTSTART;TZID=Europe/Berlin:20210414T200000
DTEND;TZID=Europe/Berlin:20210414T213000
DTSTAMP:20260419T204618
CREATED:20210406T074128Z
LAST-MODIFIED:20210406T074128Z
UID:2747-1618430400-1618435800@www.xn--empfngnis-y2a.com
SUMMARY:THEOLOGIE DES LEIBES Warum hat uns das niemand früher gesagt?
DESCRIPTION:EINFÜHRUNGSKURS\nZOOM-ONLINE\nStart: 14. April 2021 – Ich bin mein Leib\nDauer: 20.00 bis 21.15 Uhr\nSIEBEN ABENDE\nEINFÜHRUNG IN DIE\nTHEOLOGIE DES LEIBES\nFolgetermine\njeweils 20.00 bis 21.15 Uhr\n21. 4. 2021 – Als Mann und Frau schuf er sie\n28. 4. 2021 – Drei Erfahrungen im Paradies\n05. 5. 2021 – Adam wo bist du\n12. 5. 2021 – Auferstehung – wir sind für den Himmel gemacht!\n19. 5. 2021 – Die Sakramentalität der Ehe\n02. 6. 2021 – Der reine Blick – der Höhenweg der Liebe\nWeiterführende Informationen: www.theologiedesleibes.com\nWAS: DER ONLINE-KURS über die Theologie des Leibes besteht aus sieben\nAbenden zu jeweils einem eigenen Thema. Der Kurs führt lebensnah und verständlich immer weiter in die „Schönheit der menschlichen Liebe im göttlichen\nHeilsplan“. Man kann Antworten auf die ewigen Fragen wie „Woher komme ich“\,\n„Warum bin ich als Mann oder Frau auf der Welt“ oder „Was bedeutet Auferstehung“ fi nden. Es geht um die Beziehung mit Gott\, mit den anderen Menschen und\nmit mir selbst.\nFÜR: Alle ab 18 Jahren\, egal ob „Single\, Verliebt\, Verlobt\, Verheiratet\, Gottgeweiht“\nWO: Im virtuellen Zoom-Raum\, die Übermittlung eines Zugangslinks erfolgt bei\nAnmeldung\, spätestens am Vortag der Veranstaltung\nMIT: Leni Kesselstatt\, Referentin für Theologie des Leibes\nHINWEIS: Es erfolgt keine Aufzeichnung der Veranstaltung\nANMELDUNG: Angela Hiesinger\, E: a.hiesinger@kirche.at\nANMELDESCHLUSS: 7. April 2021\nKOSTEN für 7 Module:\n€ 20\,00 pro Person; € 30\,00 pro Paar;\nMit der Einzahlung des Teilnehmerbetrages ist die Anmeldung fixiert.\nSparkasse NÖ\, Diözese St. Pölten\,\nIBAN AT22 2025 6000 0001 3011\, Zweck: 33115-4042 +FamName \n
URL:http://www.xn--empfngnis-y2a.com/veranstaltung/theologie-des-leibes-warum-hat-uns-das-niemand-frueher-gesagt/
LOCATION:Klostergasse 15\, Sankt Pölten\, 3100\, Österreich
GEO:48.2067871;15.6265436
X-APPLE-STRUCTURED-LOCATION;VALUE=URI;X-ADDRESS=Klostergasse 15 Sankt Pölten 3100 Österreich;X-APPLE-RADIUS=500;X-TITLE=Klostergasse 15:geo:15.6265436,48.2067871
END:VEVENT
END:VCALENDAR