BEGIN:VCALENDAR
VERSION:2.0
PRODID:-//empfängnis.com - ECPv4.6.2//NONSGML v1.0//EN
CALSCALE:GREGORIAN
METHOD:PUBLISH
X-WR-CALNAME:empfängnis.com
X-ORIGINAL-URL:http://www.xn--empfngnis-y2a.com
X-WR-CALDESC:Events for empfängnis.com
BEGIN:VEVENT
DTSTART;TZID=Europe/Berlin:20200314T090000
DTEND;TZID=Europe/Berlin:20200314T113000
DTSTAMP:20260420T110646
CREATED:20200303T120532Z
LAST-MODIFIED:20200303T120532Z
UID:2632-1584176400-1584185400@www.xn--empfngnis-y2a.com
SUMMARY:Thema Wechseljahre
DESCRIPTION:Vortrag mit Kräuterpädagogin\, in St. Pölten \nKlostergasse 15\, Pastorale Dienste\, Florian Zimmel-Saal \nReferentInnen: Maria Fuchsluger und Waltraud Fehringer\, Kräuterpädagogin \ngenauere Informationen finden Sie \nunter: http://familie.dsp.at\, Anmeldung: a.hiesinger@kirche.at \n
URL:http://www.xn--empfngnis-y2a.com/veranstaltung/thema-wechseljahre/
LOCATION:Klostergasse 15\, Sankt Pölten\, 3100\, Österreich
GEO:48.2067871;15.6265436
X-APPLE-STRUCTURED-LOCATION;VALUE=URI;X-ADDRESS=Klostergasse 15 Sankt Pölten 3100 Österreich;X-APPLE-RADIUS=500;X-TITLE=Klostergasse 15:geo:15.6265436,48.2067871
END:VEVENT
END:VCALENDAR