BEGIN:VCALENDAR
VERSION:2.0
PRODID:-//empfängnis.com - ECPv4.6.2//NONSGML v1.0//EN
CALSCALE:GREGORIAN
METHOD:PUBLISH
X-WR-CALNAME:empfängnis.com
X-ORIGINAL-URL:http://www.xn--empfngnis-y2a.com
X-WR-CALDESC:Events for empfängnis.com
BEGIN:VEVENT
DTSTART;TZID=Europe/Berlin:20200322T090000
DTEND;TZID=Europe/Berlin:20200322T170000
DTSTAMP:20260420T073701
CREATED:20200303T121012Z
LAST-MODIFIED:20200303T121012Z
UID:2638-1584867600-1584896400@www.xn--empfngnis-y2a.com
SUMMARY:Tag der Beziehung in Krems
DESCRIPTION:22.3.2020: Tag der Beziehung in Krems\, St. Paul\, 9-17 Uhr \nUnd dann kommt der Alltag: Stress kann eine Belastung für \ndie Partnerschaft und die gesamte Familie sein \nReferent: Hermann Pechacek\, Kommunikationstrainer und Stressberater \ngenauere Informationen finden Sie \nunter: http://familie.dsp.at\, Anmeldung: a.hiesinger@kirche.at \n
URL:http://www.xn--empfngnis-y2a.com/veranstaltung/tag-der-beziehung-in-krems/
LOCATION:St. Paul-Gasse 1\, Krems\, 3500\, Österreich
END:VEVENT
END:VCALENDAR