BEGIN:VCALENDAR
VERSION:2.0
PRODID:-//empfängnis.com - ECPv4.6.2//NONSGML v1.0//EN
CALSCALE:GREGORIAN
METHOD:PUBLISH
X-WR-CALNAME:empfängnis.com
X-ORIGINAL-URL:http://www.xn--empfngnis-y2a.com
X-WR-CALDESC:Events for empfängnis.com
BEGIN:VEVENT
DTSTART;TZID=Europe/Berlin:20181001T193000
DTEND;TZID=Europe/Berlin:20181001T213000
DTSTAMP:20260421T052027
CREATED:20180929T203014Z
LAST-MODIFIED:20180929T203014Z
UID:2299-1538422200-1538429400@www.xn--empfngnis-y2a.com
SUMMARY:Stark. Selbstbewusst. Aufgeklärt
DESCRIPTION:\nStark. Selbstbewusst. Aufgeklärt\n\n\n\nMontag\, 01.10.2018 19:30 Uhr bis 21:30 Uhr\nOrt: Haus Barbara\, Kindergartenweg 15\, 5164 Seeham \nVeranstalter: Referat für Ehe und Familie \nweitere Veranstalter: Kindergarten Seeham \nWebsite: www\,familie.kirchen.net\n\n\nFragen über Sexualität stellen Kinder oft sehr früh. Aber auch jene\, die Fragen nicht offen artikulieren\, sind auf der Suche nach Antworten. Wenn nicht Sie diese Antworten geben werden es andere tun. \n\n\nWir möchten Ihnen helfen\, Wege zu finden\, um mit Ihren Kindern ins Gespräch zu kommen\, damit diese das Geheimnis der menschlichen Sexualität Schritt für Schritt – dem jeweiligem Alter angepasst – entdecken können. Denn Sexualerziehung ist bei weitem mehr als reine Aufklärung. Es bedeutet\, Ihre Kinder stark zu machen! Ihnen über die Vermittlung biologischen Wissens zu helfen\, die eigene Identität als Mann oder Frau voll Freude zu verstehen und über das Wunder neuen Lebens zu staunen … \nIn vielen Beispielen lernen Sie kindgerechte Antworten kennen. So können Sie in diesem Bereich das Vertrauen Ihrer Kleinen gewinnen\, das sich bis in die Zeit der Pubertät und darüber hinaus zu einer soliden Basis für offene Gespräche zwischen Ihnen und Ihren Kindern entwickeln kann. \nReferenten: Maria und Richard Büchsenmeister\, 12 Kinder\, Verlag ehefamiliebuch\, Referat für Ehe und Familie \nVeranstaltungsraum: Haus Barbara\, Vereinsraum – 2. Stock (Seitenaufgang vom Kindergarten)\, Adresse siehe oben \n\n\n\n
URL:http://www.xn--empfngnis-y2a.com/veranstaltung/stark-selbstbewusst-aufgeklaert/
LOCATION:Kindergartenweg 15\, Seeham\, 5164\, Österreich
END:VEVENT
END:VCALENDAR