BEGIN:VCALENDAR
VERSION:2.0
PRODID:-//empfängnis.com - ECPv4.6.2//NONSGML v1.0//EN
CALSCALE:GREGORIAN
METHOD:PUBLISH
X-WR-CALNAME:empfängnis.com
X-ORIGINAL-URL:http://www.xn--empfngnis-y2a.com
X-WR-CALDESC:Events for empfängnis.com
BEGIN:VEVENT
DTSTART;TZID=Europe/Berlin:20190317T150000
DTEND;TZID=Europe/Berlin:20190317T170000
DTSTAMP:20260420T183226
CREATED:20190117T120736Z
LAST-MODIFIED:20190117T120736Z
UID:2397-1552834800-1552842000@www.xn--empfngnis-y2a.com
SUMMARY:Stark. Selbstbewusst. Aufgeklärt
DESCRIPTION:\n\nStark. Selbstbewusst. Aufgeklärt\nSexualerziehung vom Kleinkindalter bis in die Vorpubertät\n\n\n\nSonntag\, 17.03.2019 15:00 Uhr bis 17:00 Uhr\nOrt: Loretto Gemeinschaft / St. Blasius\, Bürgerspitalgasse 2\, 5020 Salzburg \nVeranstalter: Referat für Ehe und Familie \nweitere Veranstalter: Loretto Gemeinschaft \nRegistrierung: Referat für Ehe und Familie\, E-Mail: ehe@familie.kirchen.net\, Tel.: 0662/879613-13\nWebsite: www\,familie.kirchen.net\n\nWebsite: www\,familie.kirchen.net\n\n\nFragen über Sexualität stellen Kinder oft sehr früh. Aber auch jene\, die Fragen nicht offen artikulieren\, sind auf der Suche nach Antworten. Wenn nicht Sie diese Antworten geben werden es andere tun. \n\n\nWir möchten Ihnen helfen\, Wege zu finden\, um mit Ihren Kindern ins Gespräch zu kommen\, damit diese das Geheimnis der menschlichen Sexualität Schritt für Schritt – dem jeweiligem Alter angepasst – entdecken können. Denn Sexualerziehung ist bei weitem mehr als reine Aufklärung. Es bedeutet\, Ihre Kinder stark zu machen! Ihnen über die Vermittlung biologischen Wissens zu helfen\, die eigene Identität als Mann oder Frau voll Freude zu verstehen und über das Wunder neuen Lebens zu staunen … \nIn vielen Beispielen lernen Sie kindgerechte Antworten kennen. So können Sie in diesem Bereich das Vertrauen Ihrer Kleinen gewinnen\, das sich bis in die Zeit der Pubertät und darüber hinaus zu einer soliden Basis für offene Gespräche zwischen Ihnen und Ihren Kindern entwickeln kann. \nReferenten: Maria und Richard Büchsenmeister\, 12 Kinder\, Verlag ehefamiliebuch\, Referat für Ehe und Familie \nKinderbetreuung: für Kleinkinder ab 14:30 Uhr (Spielzeugmuseum nebenan)\, Info und Anmeldung unter Tel.: 0699/18339482 \nParken: Altstadtgarage (Vergünstigung mit Stempel möglich) \nOrt: 5020 Salzburg\, Bürgerspitalplatz 2\, Gotischer Saal – Eingang vom Innenhof \n\n\n
URL:http://www.xn--empfngnis-y2a.com/veranstaltung/stark-selbstbewusst-aufgeklaert-3/
LOCATION:Bürgerspitalgasse 2\, Salzburg\, 5020\, Österreich
END:VEVENT
END:VCALENDAR