BEGIN:VCALENDAR
VERSION:2.0
PRODID:-//empfängnis.com - ECPv4.6.2//NONSGML v1.0//EN
CALSCALE:GREGORIAN
METHOD:PUBLISH
X-WR-CALNAME:empfängnis.com
X-ORIGINAL-URL:http://www.xn--empfngnis-y2a.com
X-WR-CALDESC:Events for empfängnis.com
BEGIN:VEVENT
DTSTART;TZID=Europe/Berlin:20181105T170000
DTEND;TZID=Europe/Berlin:20181105T183000
DTSTAMP:20260420T235119
CREATED:20181109T171453Z
LAST-MODIFIED:20181109T171852Z
UID:2322-1541437200-1541442600@www.xn--empfngnis-y2a.com
SUMMARY:St. Pölten\, Teenstar Kurs
DESCRIPTION:Teenstar hilft\, zu verstehen…. \nhast du schon einmal nachgedacht über das Mann- und Frau sein; über deine Gefühle\, über Liebe und Sex\,  deine Fruchtbarkeit.. \nWir begleiten dich auf der Suche nach Antworten. \nKursort: Kardinal König-Saal 3100 St. Pölten\, Dompfarre \nFür Jugendliche der 7./8. Schulstufe \nJeweils Montag 17:00-18:30 Uhr 14-tägig\, ab November 2018 \nInfo & Anmeldung: Gabi Kräftner TeenSTAR Kursleiterin 0681/814 458 68\, familie.kraeftner@gmail.com \n
URL:http://www.xn--empfngnis-y2a.com/veranstaltung/st-poelten-teenstar-kurs/
LOCATION:Eingang Domplatz\, neben Hauptportal\, St. Pölten\, Österreich
GEO:48.20353;15.63817
X-APPLE-STRUCTURED-LOCATION;VALUE=URI;X-ADDRESS=Eingang Domplatz neben Hauptportal St. Pölten Österreich;X-APPLE-RADIUS=500;X-TITLE=Eingang Domplatz\, neben Hauptportal:geo:15.63817,48.20353
END:VEVENT
END:VCALENDAR