BEGIN:VCALENDAR
VERSION:2.0
PRODID:-//empfängnis.com - ECPv4.6.2//NONSGML v1.0//EN
CALSCALE:GREGORIAN
METHOD:PUBLISH
X-WR-CALNAME:empfängnis.com
X-ORIGINAL-URL:http://www.xn--empfngnis-y2a.com
X-WR-CALDESC:Events for empfängnis.com
BEGIN:VEVENT
DTSTART;TZID=Europe/Berlin:20181203T193000
DTEND;TZID=Europe/Berlin:20181203T213000
DTSTAMP:20260420T221400
CREATED:20181003T092800Z
LAST-MODIFIED:20181003T092927Z
UID:2319-1543865400-1543872600@www.xn--empfngnis-y2a.com
SUMMARY:St. Georgen am Ybbsfelde: Grundkurs NER  G3
DESCRIPTION:Grundkurs Natürliche Empfängnisregelung in St. Georgen am Ybbsfelde\, Pfarrheim\, Am Kirchenberg \nTermine: 12. und 19.11.2018\, und 3.12.2018 von 19.30 bis 21.30 Uhr \nReferentin: Elisabeth Brandstetter \nKosten: € 60\,00 p.Person\, € 65\,00 p. Paar\, € 45\,00 f. StudentInnen und SchülerInnen inkl. Buch und Kursunterlagen \nAnmeldung erforderlich: a.hiesinger@kirche.at oder 02742/324/3339 \n  \n
URL:http://www.xn--empfngnis-y2a.com/veranstaltung/st-georgen-am-ybbsfelde-grundkurs-ner-copy-copy/
LOCATION:Am Kirchberg1\, St. Georgen / Ybbsfelde\, 3304
END:VEVENT
END:VCALENDAR