BEGIN:VCALENDAR
VERSION:2.0
PRODID:-//empfängnis.com - ECPv4.6.2//NONSGML v1.0//EN
CALSCALE:GREGORIAN
METHOD:PUBLISH
X-WR-CALNAME:empfängnis.com
X-ORIGINAL-URL:http://www.xn--empfngnis-y2a.com
X-WR-CALDESC:Events for empfängnis.com
BEGIN:VEVENT
DTSTART;TZID=Europe/Berlin:20190119T090000
DTEND;TZID=Europe/Berlin:20190119T120000
DTSTAMP:20260420T215045
CREATED:20180928T104714Z
LAST-MODIFIED:20180928T104742Z
UID:2262-1547888400-1547899200@www.xn--empfngnis-y2a.com
SUMMARY:Sieghartskirchen NER Grundkurs in 2 Teilen  G2
DESCRIPTION:\n\n\nKursart\nGrundkurs in 2 Teilen\n\n\nTermine\nG1 – Samstag\, 24.11.2018\, 09:00 – 12:00G2 – Samstag\, 19.01.2019\, 09:00 – 12:00\n\n\nAdresse\n3443 Sieghartskirchen\, Karl Berger Platz 5\, Rotes Kreuz\n\n\nVeranstalter\nFachstelle Beziehung Ehe und Familie\n\n\nAuskunft\nAngela Hiesinger\n\n\nTelefon\n02742/324/3339\n\n\nE-Mail\na.hiesinger@kirche.at\n\n\nReferent(en)\nElisabeth und Johannes Hackl\n\n\nBesonderes\nAnmeldung erforderlich!\nKursbeitrag € 65\,00 p. Paar\, € 60\,00\nErm. f. Schülerinnen u. studentInnen\n\n\n\n
URL:http://www.xn--empfngnis-y2a.com/veranstaltung/sieghartskirchen-ner-grundkurs-in-2-teilen-copy/
LOCATION:Karl Berger Platz 5\, Sieghartskirchen\, 3443\, Österreich
END:VEVENT
END:VCALENDAR