BEGIN:VCALENDAR
VERSION:2.0
PRODID:-//empfängnis.com - ECPv4.6.2//NONSGML v1.0//EN
CALSCALE:GREGORIAN
METHOD:PUBLISH
X-WR-CALNAME:empfängnis.com
X-ORIGINAL-URL:http://www.xn--empfngnis-y2a.com
X-WR-CALDESC:Events for empfängnis.com
BEGIN:VEVENT
DTSTART;TZID=Europe/Berlin:20180228T193000
DTEND;TZID=Europe/Berlin:20180228T210000
DTSTAMP:20260423T120945
CREATED:20171213T095237Z
LAST-MODIFIED:20171213T095447Z
UID:2038-1519846200-1519851600@www.xn--empfngnis-y2a.com
SUMMARY:Selbstbewusst. Aufgeklärt.
DESCRIPTION:Besser ein Jahr zu früh\, als eine Sekunde zu spät. \n28. Februar 2018; 19. 30 Uhr \nSt. Georgen / Ybbsfelde (Nähe Amstetten) im neuen Georgsaal (neben der Kirche) \nDie eigenen Eltern sind die ersten\, die dem Kind Schritt für Schritt das Geheimnis der menschlichen Sexualität erklären. Sie sind der prägendste Faktor im Leben Ihres Kindes. Wie das funktionieren kann\, erfahren Sie in vielen praktischen Beispielen. \nReferentenpaar: Maria und Richard Büchsenmeister\, Verlag ehefamiliebuch\, Familientrainer\, Eltern von 12 Kindern\nKursbeitrag: € 7\,00 pro Paar / Person Keine Anmeldung erforderlich. \nVeranstalter / Information Pfarre St. Georgen / Ybbsfelde \nBarbara Tüchler\, T: 0664/736 74 869 \n
URL:http://www.xn--empfngnis-y2a.com/veranstaltung/selbstbewusst-aufgeklaert/
LOCATION:Am Kirchberg1\, St. Georgen / Ybbsfelde\, Niederösterreich\, 3304\, Österreich
END:VEVENT
END:VCALENDAR