BEGIN:VCALENDAR
VERSION:2.0
PRODID:-//empfängnis.com - ECPv4.6.2//NONSGML v1.0//EN
CALSCALE:GREGORIAN
METHOD:PUBLISH
X-WR-CALNAME:empfängnis.com
X-ORIGINAL-URL:http://www.xn--empfngnis-y2a.com
X-WR-CALDESC:Events for empfängnis.com
BEGIN:VEVENT
DTSTART;TZID=Europe/Berlin:20170218T090000
DTEND;TZID=Europe/Berlin:20170218T180000
DTSTAMP:20260421T172616
CREATED:20170214T092335Z
LAST-MODIFIED:20170214T092341Z
UID:1547-1487408400-1487440800@www.xn--empfngnis-y2a.com
SUMMARY:Schwarzach\, Grundkurs Natürliche Empfängnisregelung\, Tageskurs
DESCRIPTION:\n\n\nKursart\nGrundkurs als Tageskurs\n\n\nTermine\nGT – Samstag\, 18.02.2017\, 09:00 – 18:00\n\n\nAdresse\n5620 Schwarzach\, Luise Saal im Krankenhaus Schwarzach\n\n\nVeranstalter\nReferat für Ehe und Familie der Erzdiözese Salzburg\n\n\nAuskunft\nMag. Maria Eisl\nReferat für Ehe und Familie\n\n\nTelefon\n0662/879613-12\n\n\nE-Mail\nmaria.eisl@familie.kirchen.net\n\n\nReferent(en)\nTatjana und DI Andreas Schnegg\n\n\nBesonderes\nKursbeitrag pro Person € 40\,–\nKursbeitrag pro Ehepaar € 50\,–\n\n\n\n
URL:http://www.xn--empfngnis-y2a.com/veranstaltung/schwarzach-grundkurs-natuerliche-empfaengnisregelung-tageskurs/
LOCATION:KH Schwarzach\, Schwarzach\, 5620\, Österreich
GEO:47.321552;13.15533
X-APPLE-STRUCTURED-LOCATION;VALUE=URI;X-ADDRESS=KH Schwarzach Schwarzach 5620 Österreich;X-APPLE-RADIUS=500;X-TITLE=KH Schwarzach:geo:13.15533,47.321552
END:VEVENT
END:VCALENDAR