BEGIN:VCALENDAR
VERSION:2.0
PRODID:-//empfängnis.com - ECPv4.6.2//NONSGML v1.0//EN
CALSCALE:GREGORIAN
METHOD:PUBLISH
X-WR-CALNAME:empfängnis.com
X-ORIGINAL-URL:http://www.xn--empfngnis-y2a.com
X-WR-CALDESC:Events for empfängnis.com
BEGIN:VEVENT
DTSTART;TZID=Europe/Berlin:20181020T090000
DTEND;TZID=Europe/Berlin:20181020T180000
DTSTAMP:20260421T000405
CREATED:20180929T193453Z
LAST-MODIFIED:20180929T193453Z
UID:2271-1540026000-1540058400@www.xn--empfngnis-y2a.com
SUMMARY:Salzburg Tageskurs NER
DESCRIPTION:\n\n\nKursart\nTageskurs\n\n\nTermine\nGT – Samstag\, 20.10.2018\, 09:00 – 18:00\n\n\nAdresse\n5020 Salzburg\, Eduard Heinrich Str. 2\, Eduard-Heinrich Haus\n\n\nVeranstalter\nReferat für Ehe und Familie der Erzdiözese Salzburg\n\n\nAuskunft\nMag. Maria Eisl\nmaria.eisl@familie.kirchen.net\n\n\nTelefon\n0662/879613-12\n\n\nReferent(en)\nAngelica (BEd) und Thomas Spießberger\n\n\nBesonderes\nSeminarbeitrag pro Person € 60\,–\nSeminarbeitrag pro Ehepaar € 70\,–\n\n\n\n
URL:http://www.xn--empfngnis-y2a.com/veranstaltung/salzburg-tageskurs-ner/
LOCATION:Eduard Heinrich Str. 2\, Salzburg\, 5020\, Österreich
END:VEVENT
END:VCALENDAR