BEGIN:VCALENDAR
VERSION:2.0
PRODID:-//empfängnis.com - ECPv4.6.2//NONSGML v1.0//EN
CALSCALE:GREGORIAN
METHOD:PUBLISH
X-WR-CALNAME:empfängnis.com
X-ORIGINAL-URL:http://www.xn--empfngnis-y2a.com
X-WR-CALDESC:Events for empfängnis.com
BEGIN:VEVENT
DTSTART;TZID=Europe/Berlin:20210612T083000
DTEND;TZID=Europe/Berlin:20210612T180000
DTSTAMP:20260420T012218
CREATED:20210107T164401Z
LAST-MODIFIED:20210107T164401Z
UID:2733-1623486600-1623520800@www.xn--empfngnis-y2a.com
SUMMARY:Salzburg: Tageskurs Natürliche Empfängnisregelung
DESCRIPTION:\n\n\nKursart\nGrundkurs NER\n\n\nTermine\nGT – Samstag\, 12.06.2021\, 08:30 – 18:00\n\n\nAdresse\n5020 Salzburg\, Hellbrunnerstr. 13 b\n\n\nVeranstalter\nReferat für Ehe und Familie der Erzdiözese Salzburg\n\n\nAuskunft\nMag. Maria Eisl\n\n\nTelefon\n0662-8047-6730\n\n\nE-Mail\nmaria.eisl@ehe-familie.at\n\n\nReferent(en)\nMag. Maria und Heinrich Eisl\n\n\nBesonderes\nAnmeldung erforderlich!\nSeminarbeitrag mit Unterlagen:\nPro Person 60\,– €\nPro Ehepaar 70\,– €\n\n\n\n
URL:http://www.xn--empfngnis-y2a.com/veranstaltung/salzburg-tageskurs-natuerliche-empfaengnisregelung-2/
LOCATION:Hellbrunnerstrasse 13b\, Salzburg\, 5020\, Österreich
END:VEVENT
END:VCALENDAR