BEGIN:VCALENDAR
VERSION:2.0
PRODID:-//empfängnis.com - ECPv4.6.2//NONSGML v1.0//EN
CALSCALE:GREGORIAN
METHOD:PUBLISH
X-WR-CALNAME:empfängnis.com
X-ORIGINAL-URL:http://www.xn--empfngnis-y2a.com
X-WR-CALDESC:Events for empfängnis.com
BEGIN:VEVENT
DTSTART;TZID=Europe/Berlin:20191019T090000
DTEND;TZID=Europe/Berlin:20191019T180000
DTSTAMP:20260420T145147
CREATED:20190930T183702Z
LAST-MODIFIED:20190930T183702Z
UID:2522-1571475600-1571508000@www.xn--empfngnis-y2a.com
SUMMARY:Salzburg: Grundkurs als Tageskurs
DESCRIPTION:\n\n\nKursart\nGrundkurs als Tageskurs\n\n\nTermine\nGT – Samstag\, 19.10.2019\, 09:00 – 18:00\n\n\nAdresse\n5020 Salzburg\, Eduard Heinrich Straße 2\, Eduard Heinrich Haus\n\n\nVeranstalter\nReferat für Ehe und Familie der Erzdiözese Salzburg\, Dreifaltigkeitsgasse 12\, 5020 Salzburg\n\n\nAuskunft\nMag. Maria Eisl\nTel: 0662/879613-12\nmaria.eisl@familie.kirchen.net\n\n\nTelefon\n0662/879613-12\n\n\nE-Mail\nmaria.eisl@familie.kirchen.net\n\n\nReferent(en)\nAngelica (BEd) und Thomas Spießberger\n\n\nBesonderes\nSeminarbeitrag mit Unterlagen:\nPro Person 60\,– €\nPro Ehepaar 70\,– €\nErmäßigung auf Anfrage möglich\nAnmeldung erforderlich\n\n\n\n
URL:http://www.xn--empfngnis-y2a.com/veranstaltung/salzburg-grundkurs-als-tageskurs/
LOCATION:Eduard Heinrich Str. 2\, Salzburg\, 5020\, Österreich
END:VEVENT
END:VCALENDAR