BEGIN:VCALENDAR
VERSION:2.0
PRODID:-//empfängnis.com - ECPv4.6.2//NONSGML v1.0//EN
CALSCALE:GREGORIAN
METHOD:PUBLISH
X-WR-CALNAME:empfängnis.com
X-ORIGINAL-URL:http://www.xn--empfngnis-y2a.com
X-WR-CALDESC:Events for empfängnis.com
BEGIN:VEVENT
DTSTART;TZID=Europe/Berlin:20170422T090000
DTEND;TZID=Europe/Berlin:20170422T123000
DTSTAMP:20260421T154511
CREATED:20170404T141220Z
LAST-MODIFIED:20170404T141423Z
UID:1692-1492851600-1492864200@www.xn--empfngnis-y2a.com
SUMMARY:Safer Surfing
DESCRIPTION:Soll das Internet unsere Kinder aufklären? \nWomit sind unsere Kinder in der virtuellen Welt konfrontiert? \nVortrag am 22.April \n9:00 Kaffe und Kuchen; Vortrag 9:30 bis 12:30 \nHaus Bless 1 \nHubertusgasse 27c \n2700 Wiener Neustadt \nReferenten des Vereines „Safer Surfing – kinder-\, Jugendlichen- und Erwachsenschutz im Internet“ \nVeranstalter: Team Courage; Eintritt : freie Spende \nAus organisatorischen Gründen bitte um Anmeldung unter: office@team-courage.at \n
URL:http://www.xn--empfngnis-y2a.com/veranstaltung/safer-surfing/
LOCATION:Hubertusgasse 27c\, Wiener Neustadt\, 2700\, Österreich
GEO:47.7956976;16.2315713
X-APPLE-STRUCTURED-LOCATION;VALUE=URI;X-ADDRESS=Hubertusgasse 27c Wiener Neustadt 2700 Österreich;X-APPLE-RADIUS=500;X-TITLE=Hubertusgasse 27c:geo:16.2315713,47.7956976
END:VEVENT
END:VCALENDAR