BEGIN:VCALENDAR
VERSION:2.0
PRODID:-//empfängnis.com - ECPv4.6.2//NONSGML v1.0//EN
CALSCALE:GREGORIAN
METHOD:PUBLISH
X-WR-CALNAME:empfängnis.com
X-ORIGINAL-URL:http://www.xn--empfngnis-y2a.com
X-WR-CALDESC:Events for empfängnis.com
BEGIN:VEVENT
DTSTART;TZID=Europe/Berlin:20180325T090000
DTEND;TZID=Europe/Berlin:20180325T180000
DTSTAMP:20260421T104309
CREATED:20180322T162628Z
LAST-MODIFIED:20180322T162628Z
UID:2089-1521968400-1522000800@www.xn--empfngnis-y2a.com
SUMMARY:Projekt "Reine Herzen"
DESCRIPTION:Besondere Veranstaltung für Jugendliche \nTreffen „Projekt Reine Herzen“ . (Jugendliche ca. ab 16) \nam Sonntag\, 25. 3. 2017 \nin Kleinwolfstein\, 28\, 3323 Neustadl/Donau\, Nähe Blindenmarkt\, \nKloster Ancilla Domini \n9.00 Heilige Messe m. Umzug\, Versprechen\, Impuls v. P. Florian Birle SJM\, \nMittagessen\, Outdoorprogramm\, Ende 18 Uhr. \nJugendliche können vom Bhf. Blindenmarkt abgeholt werden\, nach Vereinbarung. \n  \nAnmeldung: bei Maria Bauer <maria4.bauer@ph-linz.at> oder Angela Hiesinger <a.hiiesinger@kirche.at> \nIch bitte Euch\, diese wichtige Sache weiterzusagen\, Jugendliche dafür zu gewinnen\, mitzumachen! \n
URL:http://www.xn--empfngnis-y2a.com/veranstaltung/projekt-reine-herzen/
LOCATION:Kleinwolfstein 28\, Neustadl/Donau\, 3323\, Österreich
END:VEVENT
END:VCALENDAR