BEGIN:VCALENDAR
VERSION:2.0
PRODID:-//empfängnis.com - ECPv4.6.2//NONSGML v1.0//EN
CALSCALE:GREGORIAN
METHOD:PUBLISH
X-WR-CALNAME:empfängnis.com
X-ORIGINAL-URL:http://www.xn--empfngnis-y2a.com
X-WR-CALDESC:Events for empfängnis.com
BEGIN:VEVENT
DTSTART;TZID=Europe/Berlin:20170505T193000
DTEND;TZID=Europe/Berlin:20170505T193000
DTSTAMP:20260421T172255
CREATED:20170403T131901Z
LAST-MODIFIED:20170403T131901Z
UID:1629-1494012600-1494012600@www.xn--empfngnis-y2a.com
SUMMARY:Piller\, Spirale & Co. Gibt es Alternativen?
DESCRIPTION:
URL:http://www.xn--empfngnis-y2a.com/veranstaltung/piller-spirale-co-gibt-es-alternativen/
LOCATION:Sattel 4\, Hollenstein a.d.Ybbs\, 3343\, Österreich
GEO:47.7919316;14.7958746
X-APPLE-STRUCTURED-LOCATION;VALUE=URI;X-ADDRESS=Sattel 4 Hollenstein a.d.Ybbs 3343 Österreich;X-APPLE-RADIUS=500;X-TITLE=Sattel 4:geo:14.7958746,47.7919316
END:VEVENT
END:VCALENDAR