BEGIN:VCALENDAR
VERSION:2.0
PRODID:-//empfängnis.com - ECPv4.6.2//NONSGML v1.0//EN
CALSCALE:GREGORIAN
METHOD:PUBLISH
X-WR-CALNAME:empfängnis.com
X-ORIGINAL-URL:http://www.xn--empfngnis-y2a.com
X-WR-CALDESC:Events for empfängnis.com
BEGIN:VEVENT
DTSTART;TZID=Europe/Berlin:20180119T193000
DTEND;TZID=Europe/Berlin:20180119T210000
DTSTAMP:20260421T154759
CREATED:20171213T101926Z
LAST-MODIFIED:20171213T102159Z
UID:2054-1516390200-1516395600@www.xn--empfngnis-y2a.com
SUMMARY:Pille\, Spirale und Co. Gibt es Alternativen?
DESCRIPTION:Vortrag \nFreitag\, 19.Jänner 2017\, 19:30 \nReferenten: Elisabeth und Johannes Hackl\, zertifizierte INER Mitarbeiter. www.iner.org \n3454 Sitzenberg-Reidling\, Leopold Figl Platz3 \nHaus der Generationen\, öffentliche Bücherei \nZielgruppe: Frauen\, Paare mit (unerfülltem) Kinderwunsch\, Interessierte und Singles\, Jugendliche ab 16 \nEintritt frei \nInfo Angela Hiesinger\, Tel 02742/324-3339 oder: a.hiesinger@kirche.at \n
URL:http://www.xn--empfngnis-y2a.com/veranstaltung/pille-spirale-und-co-gibt-es-alternativen/
LOCATION:Leopold-Figl-Platz 3\, Sitzenberg-Reidling\, 3454\, Österreich
GEO:48.3193706;15.8177344
X-APPLE-STRUCTURED-LOCATION;VALUE=URI;X-ADDRESS=Leopold-Figl-Platz 3 Sitzenberg-Reidling 3454 Österreich;X-APPLE-RADIUS=500;X-TITLE=Leopold-Figl-Platz 3:geo:15.8177344,48.3193706
END:VEVENT
END:VCALENDAR