BEGIN:VCALENDAR
VERSION:2.0
PRODID:-//empfängnis.com - ECPv4.6.2//NONSGML v1.0//EN
CALSCALE:GREGORIAN
METHOD:PUBLISH
X-WR-CALNAME:empfängnis.com
X-ORIGINAL-URL:http://www.xn--empfngnis-y2a.com
X-WR-CALDESC:Events for empfängnis.com
BEGIN:VEVENT
DTSTART;TZID=Europe/Berlin:20160421T193000
DTEND;TZID=Europe/Berlin:20160421T213000
DTSTAMP:20260422T052251
CREATED:20160302T191105Z
LAST-MODIFIED:20160302T191105Z
UID:764-1461267000-1461274200@www.xn--empfngnis-y2a.com
SUMMARY:Pille\, Spirale & Co. Gibt es Alternativen? Was tut sich im männlichen bzw. weiblichen Zyklus bzgl. Fruchtbarkeit?
DESCRIPTION:
URL:http://www.xn--empfngnis-y2a.com/veranstaltung/pille-spirale-co-gibt-es-alternativen-was-tut-sich-im-maennlichen-bzw-weiblichen-zyklus-bzgl-fruchtbarkeit/
LOCATION:Martinsberg 6\, Gemeindesaal Martinsberg\, Martinsberg\, 3664\, Österreich
GEO:48.3757756;15.149471
X-APPLE-STRUCTURED-LOCATION;VALUE=URI;X-ADDRESS=Martinsberg 6 Gemeindesaal Martinsberg Martinsberg 3664 Österreich;X-APPLE-RADIUS=500;X-TITLE=Martinsberg 6\, Gemeindesaal Martinsberg:geo:15.149471,48.3757756
END:VEVENT
END:VCALENDAR