BEGIN:VCALENDAR
VERSION:2.0
PRODID:-//empfängnis.com - ECPv4.6.2//NONSGML v1.0//EN
CALSCALE:GREGORIAN
METHOD:PUBLISH
X-WR-CALNAME:empfängnis.com
X-ORIGINAL-URL:http://www.xn--empfngnis-y2a.com
X-WR-CALDESC:Events for empfängnis.com
BEGIN:VEVENT
DTSTART;TZID=Europe/Berlin:20161012T190000
DTEND;TZID=Europe/Berlin:20161012T210000
DTSTAMP:20260422T050326
CREATED:20161003T132614Z
LAST-MODIFIED:20161003T132614Z
UID:1140-1476298800-1476306000@www.xn--empfngnis-y2a.com
SUMMARY:Pille\, Spirale & Co. Gibt es Alternativen?
DESCRIPTION:
URL:http://www.xn--empfngnis-y2a.com/veranstaltung/pille-spirale-co-gibt-es-alternativen-7/
LOCATION:Elisabethstraße 28\, Mödling\, 2340\, Österreich
GEO:48.0832372;16.2823272
X-APPLE-STRUCTURED-LOCATION;VALUE=URI;X-ADDRESS=Elisabethstraße 28 Mödling 2340 Österreich;X-APPLE-RADIUS=500;X-TITLE=Elisabethstraße 28:geo:16.2823272,48.0832372
END:VEVENT
END:VCALENDAR