BEGIN:VCALENDAR
VERSION:2.0
PRODID:-//empfängnis.com - ECPv4.6.2//NONSGML v1.0//EN
CALSCALE:GREGORIAN
METHOD:PUBLISH
X-WR-CALNAME:empfängnis.com
X-ORIGINAL-URL:http://www.xn--empfngnis-y2a.com
X-WR-CALDESC:Events for empfängnis.com
BEGIN:VEVENT
DTSTART;TZID=Europe/Berlin:20161103T193000
DTEND;TZID=Europe/Berlin:20161103T193000
DTSTAMP:20260422T050326
CREATED:20160628T180019Z
LAST-MODIFIED:20160628T180242Z
UID:961-1478201400-1478201400@www.xn--empfngnis-y2a.com
SUMMARY:Pille\, Spirale & Co. Gibt es Alternativen?
DESCRIPTION:
URL:http://www.xn--empfngnis-y2a.com/veranstaltung/pille-spirale-co-gibt-es-alternativen-4/
LOCATION:Untere Traisenlände 2\, Traismauer\, 3133\, Österreich
GEO:48.3529098;15.7439748
X-APPLE-STRUCTURED-LOCATION;VALUE=URI;X-ADDRESS=Untere Traisenlände 2 Traismauer 3133 Österreich;X-APPLE-RADIUS=500;X-TITLE=Untere Traisenlände 2:geo:15.7439748,48.3529098
END:VEVENT
END:VCALENDAR