BEGIN:VCALENDAR
VERSION:2.0
PRODID:-//empfängnis.com - ECPv4.6.2//NONSGML v1.0//EN
CALSCALE:GREGORIAN
METHOD:PUBLISH
X-WR-CALNAME:empfängnis.com
X-ORIGINAL-URL:http://www.xn--empfngnis-y2a.com
X-WR-CALDESC:Events for empfängnis.com
BEGIN:VEVENT
DTSTART;TZID=Europe/Berlin:20160615T190000
DTEND;TZID=Europe/Berlin:20160615T190000
DTSTAMP:20260422T034218
CREATED:20160607T123844Z
LAST-MODIFIED:20160607T123844Z
UID:953-1466017200-1466017200@www.xn--empfngnis-y2a.com
SUMMARY:"Pille\, Spirale & Co. Gibt es Alternativen?
DESCRIPTION:
URL:http://www.xn--empfngnis-y2a.com/veranstaltung/pille-spirale-co-gibt-es-alternativen-3/
LOCATION:Am Kirchenplatz 1\, St. Margarethen\, 3231\, Österreich
GEO:48.1599147;15.4898305
X-APPLE-STRUCTURED-LOCATION;VALUE=URI;X-ADDRESS=Am Kirchenplatz 1 St. Margarethen 3231 Österreich;X-APPLE-RADIUS=500;X-TITLE=Am Kirchenplatz 1:geo:15.4898305,48.1599147
END:VEVENT
END:VCALENDAR