BEGIN:VCALENDAR
VERSION:2.0
PRODID:-//empfängnis.com - ECPv4.6.2//NONSGML v1.0//EN
CALSCALE:GREGORIAN
METHOD:PUBLISH
X-WR-CALNAME:empfängnis.com
X-ORIGINAL-URL:http://www.xn--empfngnis-y2a.com
X-WR-CALDESC:Events for empfängnis.com
BEGIN:VEVENT
DTSTART;TZID=Europe/Berlin:20150924T080000
DTEND;TZID=Europe/Berlin:20150924T170000
DTSTAMP:20260422T085823
CREATED:20150914T112620Z
LAST-MODIFIED:20150924T071643Z
UID:190-1443081600-1443114000@www.xn--empfngnis-y2a.com
SUMMARY:Pille\, Spirale & Co. – Gibt es Alternativen?
DESCRIPTION:Referentin: Angela Hiesinger\, zert. INER-Mitarbeiterin \nWas tut sich im männlichen bzw. weiblichen Körper bezüglich Fruchtbarkeit? \nZielgruppe:\nFrauen\, Paare\, Paare mit (unerfülltem) Kinderwunsch\nInteressierte und Singles (männl.\, weibl.)\nEintritt frei! \nInfo: Angela Hiesinger\,\nT: 02742 / 324 – 3339 od. E: a.hiesinger@kirche.at \n(Einladung als PDF: 2015 Info-abend Texing) \n
URL:http://www.xn--empfngnis-y2a.com/veranstaltung/pille-spirale-co-gibt-es-alternativen-2/
LOCATION:Texing 16\, Texing
GEO:48.045019;15.3223403
X-APPLE-STRUCTURED-LOCATION;VALUE=URI;X-ADDRESS=Texing 16 Texing;X-APPLE-RADIUS=500;X-TITLE=Texing 16:geo:15.3223403,48.045019
CATEGORIES:Workshop
ORGANIZER;CN="Angela%20Hiesinger":MAILTO:a.hiesinger@kirche.at
END:VEVENT
END:VCALENDAR