BEGIN:VCALENDAR
VERSION:2.0
PRODID:-//empfängnis.com - ECPv4.6.2//NONSGML v1.0//EN
CALSCALE:GREGORIAN
METHOD:PUBLISH
X-WR-CALNAME:empfängnis.com
X-ORIGINAL-URL:http://www.xn--empfngnis-y2a.com
X-WR-CALDESC:Events for empfängnis.com
BEGIN:VEVENT
DTSTART;TZID=Europe/Berlin:20180914T170000
DTEND;TZID=Europe/Berlin:20180914T183000
DTSTAMP:20260421T040119
CREATED:20180703T115118Z
LAST-MODIFIED:20180703T120714Z
UID:2184-1536944400-1536949800@www.xn--empfngnis-y2a.com
SUMMARY:Pille\, Spirale & Co. Gibt es Alternativen?
DESCRIPTION:14.9.2018\, 17.00 bis 18.30 Uhr \nReferenten: Doris und Michael Sedlaczek \nCaritaswerkstätte\, Pfarrgasse 3\, 3943 Schrems \n
URL:http://www.xn--empfngnis-y2a.com/veranstaltung/pille-spirale-co-gibt-es-alternativen-17/
LOCATION:Pfarrgasse 3\, Schrems\, 3943\, Österreich
GEO:48.7943153;15.0694074
X-APPLE-STRUCTURED-LOCATION;VALUE=URI;X-ADDRESS=Pfarrgasse 3 Schrems 3943 Österreich;X-APPLE-RADIUS=500;X-TITLE=Pfarrgasse 3:geo:15.0694074,48.7943153
END:VEVENT
END:VCALENDAR