BEGIN:VCALENDAR
VERSION:2.0
PRODID:-//empfängnis.com - ECPv4.6.2//NONSGML v1.0//EN
CALSCALE:GREGORIAN
METHOD:PUBLISH
X-WR-CALNAME:empfängnis.com
X-ORIGINAL-URL:http://www.xn--empfngnis-y2a.com
X-WR-CALDESC:Events for empfängnis.com
BEGIN:VEVENT
DTSTART;TZID=Europe/Berlin:20180910T193000
DTEND;TZID=Europe/Berlin:20180910T193000
DTSTAMP:20260421T040059
CREATED:20180703T114755Z
LAST-MODIFIED:20180703T114755Z
UID:2182-1536607800-1536607800@www.xn--empfngnis-y2a.com
SUMMARY:Pille\, Spirale & Co. Gibt es Alternativen?
DESCRIPTION:10.9.2018\, 19.30 Uhr\, St. Pölten\, Klostergasse 15\, Pastorale Dienste\, F.Zimmel Saal \nReferentin: Dr. Barbara M. Sauberer und Angela Hiesinger \n
URL:http://www.xn--empfngnis-y2a.com/veranstaltung/pille-spirale-co-gibt-es-alternativen-16/
LOCATION:Klostergasse 15\, Sankt Pölten\, 3100\, Österreich
GEO:48.2067871;15.6265436
X-APPLE-STRUCTURED-LOCATION;VALUE=URI;X-ADDRESS=Klostergasse 15 Sankt Pölten 3100 Österreich;X-APPLE-RADIUS=500;X-TITLE=Klostergasse 15:geo:15.6265436,48.2067871
END:VEVENT
END:VCALENDAR