BEGIN:VCALENDAR
VERSION:2.0
PRODID:-//empfängnis.com - ECPv4.6.2//NONSGML v1.0//EN
CALSCALE:GREGORIAN
METHOD:PUBLISH
X-WR-CALNAME:empfängnis.com
X-ORIGINAL-URL:http://www.xn--empfngnis-y2a.com
X-WR-CALDESC:Events for empfängnis.com
BEGIN:VEVENT
DTSTART;TZID=Europe/Berlin:20180925T193000
DTEND;TZID=Europe/Berlin:20180925T210000
DTSTAMP:20260421T040239
CREATED:20180703T114628Z
LAST-MODIFIED:20180703T120747Z
UID:2179-1537903800-1537909200@www.xn--empfngnis-y2a.com
SUMMARY:Pille\, Spirale & Co. Gibt es Alternativen?
DESCRIPTION:25.9.2018\, 19.45 Uhr\, Pfarrheim St. Georgen am Ybbsfelde\, Am Kirchenberg 1 \nReferentin: Elisabeth Brandstetter \n  \n
URL:http://www.xn--empfngnis-y2a.com/veranstaltung/pille-spirale-co-gibt-es-alternativen-15/
LOCATION:Am Kirchberg1\, St. Georgen / Ybbsfelde\, 3304
END:VEVENT
END:VCALENDAR