BEGIN:VCALENDAR
VERSION:2.0
PRODID:-//empfängnis.com - ECPv4.6.2//NONSGML v1.0//EN
CALSCALE:GREGORIAN
METHOD:PUBLISH
X-WR-CALNAME:empfängnis.com
X-ORIGINAL-URL:http://www.xn--empfngnis-y2a.com
X-WR-CALDESC:Events for empfängnis.com
BEGIN:VEVENT
DTSTART;TZID=Europe/Berlin:20180411T193000
DTEND;TZID=Europe/Berlin:20180411T210000
DTSTAMP:20260421T103516
CREATED:20180322T164001Z
LAST-MODIFIED:20180322T164001Z
UID:2094-1523475000-1523480400@www.xn--empfngnis-y2a.com
SUMMARY:„Pille\, Spirale & Co. Gibt es Alternativen?
DESCRIPTION:„Pille\, Spirale & Co. Gibt es Alternativen?“ Der weibliche Zyklus – meine Fachkompetenz \nSensationell komplex und doch ganz einfach \nInformationsabend Natürliche Empfängnisregelung (NER) \nVORTRAG Mittwoch\, 11. April 2018\, 19.30 Uhr Sitzungsraum der Pfarre Lilienfeld\,  \n3180 Lilienfeld\, Klosterrotte 1  \nReferentin: Maria Fuchsluger\, zertiﬁ zierte INER-Mitarbeiterin\, www.iner.org \nZielgruppe: Frauen\, Paare\, Paare mit (unerfülltem) Kinderwunsch\, Interessierte\, Singles (männl.\, weibl.)\, Jugendliche ab 16 Eintritt frei! Info: Angela Hiesinger\, T: 02742 / 324 – 3339 od. E: a.hiesinger@kirche.at \n
URL:http://www.xn--empfngnis-y2a.com/veranstaltung/pille-spirale-co-gibt-es-alternativen-11/
LOCATION:Klosterrotte 1\, Lilienfeld\, 3180\, Österreich
GEO:48.0130039;15.5985614
X-APPLE-STRUCTURED-LOCATION;VALUE=URI;X-ADDRESS=Klosterrotte 1 Lilienfeld 3180 Österreich;X-APPLE-RADIUS=500;X-TITLE=Klosterrotte 1:geo:15.5985614,48.0130039
END:VEVENT
END:VCALENDAR