BEGIN:VCALENDAR
VERSION:2.0
PRODID:-//empfängnis.com - ECPv4.6.2//NONSGML v1.0//EN
CALSCALE:GREGORIAN
METHOD:PUBLISH
X-WR-CALNAME:empfängnis.com
X-ORIGINAL-URL:http://www.xn--empfngnis-y2a.com
X-WR-CALDESC:Events for empfängnis.com
BEGIN:VEVENT
DTSTART;TZID=Europe/Berlin:20170221T193000
DTEND;TZID=Europe/Berlin:20170221T193000
DTSTAMP:20260421T203753
CREATED:20170211T162605Z
LAST-MODIFIED:20170211T162605Z
UID:1522-1487705400-1487705400@www.xn--empfngnis-y2a.com
SUMMARY:"Pille\, Spirale & Co. Gibt es Alternativen?"
DESCRIPTION:
URL:http://www.xn--empfngnis-y2a.com/veranstaltung/pille-spirale-co-gibt-es-alternativen-10/
LOCATION:Leopold-Figl-Platz 3\, Sitzenberg-Reidling\, 3454\, Österreich
GEO:48.3193706;15.8177344
X-APPLE-STRUCTURED-LOCATION;VALUE=URI;X-ADDRESS=Leopold-Figl-Platz 3 Sitzenberg-Reidling 3454 Österreich;X-APPLE-RADIUS=500;X-TITLE=Leopold-Figl-Platz 3:geo:15.8177344,48.3193706
END:VEVENT
END:VCALENDAR