BEGIN:VCALENDAR
VERSION:2.0
PRODID:-//empfängnis.com - ECPv4.6.2//NONSGML v1.0//EN
CALSCALE:GREGORIAN
METHOD:PUBLISH
X-WR-CALNAME:empfängnis.com
X-ORIGINAL-URL:http://www.xn--empfngnis-y2a.com
X-WR-CALDESC:Events for empfängnis.com
BEGIN:VEVENT
DTSTART;TZID=Europe/Berlin:20170224T183000
DTEND;TZID=Europe/Berlin:20170224T220000
DTSTAMP:20260421T204312
CREATED:20170201T154027Z
LAST-MODIFIED:20170201T154027Z
UID:1492-1487961000-1487973600@www.xn--empfngnis-y2a.com
SUMMARY:PARENTSTAR - Liebe und Sexualität in der Erziehung
DESCRIPTION:
URL:http://www.xn--empfngnis-y2a.com/veranstaltung/parentstar-liebe-und-sexualitaet-in-der-erziehung-2/
LOCATION:Reinlgasse 25\, Wien\, 1140\, Österreich
GEO:48.1972997;16.3119995
X-APPLE-STRUCTURED-LOCATION;VALUE=URI;X-ADDRESS=Reinlgasse 25 Wien 1140 Österreich;X-APPLE-RADIUS=500;X-TITLE=Reinlgasse 25:geo:16.3119995,48.1972997
END:VEVENT
END:VCALENDAR