BEGIN:VCALENDAR
VERSION:2.0
PRODID:-//empfängnis.com - ECPv4.6.2//NONSGML v1.0//EN
CALSCALE:GREGORIAN
METHOD:PUBLISH
X-WR-CALNAME:empfängnis.com
X-ORIGINAL-URL:http://www.xn--empfngnis-y2a.com
X-WR-CALDESC:Events for empfängnis.com
BEGIN:VEVENT
DTSTART;TZID=Europe/Berlin:20161017T183000
DTEND;TZID=Europe/Berlin:20161017T203000
DTSTAMP:20260422T050424
CREATED:20160929T144101Z
LAST-MODIFIED:20160929T144101Z
UID:1118-1476729000-1476736200@www.xn--empfngnis-y2a.com
SUMMARY:O du stille Zeit - Weihnachten: Wunsch und Praxis
DESCRIPTION:
URL:http://www.xn--empfngnis-y2a.com/veranstaltung/o-du-stille-zeit-weihnachten-wunsch-und-praxis/
LOCATION:Klostergasse 15\, St. Pölten\, 3100\, Österreich
GEO:48.2067871;15.6265436
X-APPLE-STRUCTURED-LOCATION;VALUE=URI;X-ADDRESS=Klostergasse 15 St. Pölten 3100 Österreich;X-APPLE-RADIUS=500;X-TITLE=Klostergasse 15:geo:15.6265436,48.2067871
END:VEVENT
END:VCALENDAR