BEGIN:VCALENDAR
VERSION:2.0
PRODID:-//empfängnis.com - ECPv4.6.2//NONSGML v1.0//EN
CALSCALE:GREGORIAN
METHOD:PUBLISH
X-WR-CALNAME:empfängnis.com
X-ORIGINAL-URL:http://www.xn--empfngnis-y2a.com
X-WR-CALDESC:Events for empfängnis.com
BEGIN:VEVENT
DTSTART;TZID=Europe/Berlin:20190914T090000
DTEND;TZID=Europe/Berlin:20190914T103000
DTSTAMP:20260420T093459
CREATED:20190709T163024Z
LAST-MODIFIED:20190709T163024Z
UID:2463-1568451600-1568457000@www.xn--empfngnis-y2a.com
SUMMARY:Neuhofen/Ybbs: Natürliche Empfängnisregelung in der Stillzeit
DESCRIPTION:Natürliche Empfängnisregelung in der Stillzeit \nThemen: Wie lange bin ich unfruchtbar während der Stillzeit? Bei vollem Stillen? Bei teilweisem Stillen? \nWie erkenne ich\, dass meine Fruchtbarkeit zurückkehrt? \nWie verlässlich ist NER in der Stillzeit? \nWas ist gut für Mutter\, Vater und Kind? \nAustausch von unterschiedlichen Erfahrungen \nKostenbeitrag: € 10\,– pro Person bzw. pro Paar \nReferentin: Maria Fuchsluger\, zert. INER Mitarbeiterin \nweitere Termine zum vormerken: 1. Februar 2020\, 6. Juni 2020 \n
URL:http://www.xn--empfngnis-y2a.com/veranstaltung/neuhofen-ybbs-natuerliche-empfaengnisregelung-in-der-stillzeit/
LOCATION:Millenniumsplatz 2\, Neuhofen/ Ybbs\, 3364\, Österreich
END:VEVENT
END:VCALENDAR