BEGIN:VCALENDAR
VERSION:2.0
PRODID:-//empfängnis.com - ECPv4.6.2//NONSGML v1.0//EN
CALSCALE:GREGORIAN
METHOD:PUBLISH
X-WR-CALNAME:empfängnis.com
X-ORIGINAL-URL:http://www.xn--empfngnis-y2a.com
X-WR-CALDESC:Events for empfängnis.com
BEGIN:VEVENT
DTSTART;TZID=Europe/Berlin:20210228T090000
DTEND;TZID=Europe/Berlin:20210228T180000
DTSTAMP:20260419T211334
CREATED:20210107T161308Z
LAST-MODIFIED:20210107T161519Z
UID:2719-1614502800-1614535200@www.xn--empfngnis-y2a.com
SUMMARY:NER Zertifikatskurs St. Pölten
DESCRIPTION:Lust auf mehr ….\nNER-Zertifikatskurs\nReferentenausbildung \n7 Module\, jeweils an Sonntagen\, 9-18 Uhr \nSie leben die Natürliche Empfängnisregelung\n(NER) oder möchten sich mit der Materie näher\nbefassen\, aus persönlichem Interesse oder um\nes anderen besser erklären zu können. \n28. Februar 2021 – Startveranstaltung\n21. März 2021\n25. April 2021\n16. Mai 2021\n20. Juni 2021\n17. Oktober 2021\nAbschlusswochenende\nmit Zertifikatsüberreichung 13. bis 14. November 2021 \nReferentInnen Elisabeth und Johannes Hackl\,\nDr. med. Karin Kroboth-Svoboda\, Elisabeth Rötzer\,\nProf. Dr. Helmut Prader\nKosten\n310\,00 (pro Person); € 390\,00 (pro Paar)\n€ 250\,00 für Student*innen I Schüler*innen\nzzgl. Kosten für Pflichtlektüre € 58\,00\nUnterkunft und Verpflegung für das\nAbschlusswochenende (vor Ort zu bezahlen)\nRatenzahlung auf Anfrage möglich \nAnmeldung\nFachstelle Beziehung-Ehe-Familie\nAngela Hiesinger\nE: a.hiesinger@kirche.at \n
URL:http://www.xn--empfngnis-y2a.com/veranstaltung/ner-zertifikatskurs-st-poelten/
LOCATION:Klostergasse 15\, St.Pölten\, Österreich
GEO:48.2067871;15.6265436
X-APPLE-STRUCTURED-LOCATION;VALUE=URI;X-ADDRESS=Klostergasse 15 St.Pölten Österreich;X-APPLE-RADIUS=500;X-TITLE=Klostergasse 15:geo:15.6265436,48.2067871
END:VEVENT
END:VCALENDAR