BEGIN:VCALENDAR
VERSION:2.0
PRODID:-//empfängnis.com - ECPv4.6.2//NONSGML v1.0//EN
CALSCALE:GREGORIAN
METHOD:PUBLISH
X-WR-CALNAME:empfängnis.com
X-ORIGINAL-URL:http://www.xn--empfngnis-y2a.com
X-WR-CALDESC:Events for empfängnis.com
BEGIN:VEVENT
DTSTART;TZID=Europe/Berlin:20170322T193000
DTEND;TZID=Europe/Berlin:20170322T210000
DTSTAMP:20260421T154512
CREATED:20170214T091838Z
LAST-MODIFIED:20170214T091845Z
UID:1543-1490211000-1490216400@www.xn--empfngnis-y2a.com
SUMMARY:NER in der Stillzeit
DESCRIPTION:\n\n\nKursart\nSpezielle Veranstaltung\n\n\nTermine\nSPEZ – Mittwoch\, 22.03.2017\, 19:30 – 21:00\n\n\nAdresse\n5020 Salzburg\, Dreifaltigkeitsgasse 12\, Referat für Ehe und Familie der Erzdiözese Salzburg\n\n\nVeranstalter\nReferat für Ehe und Familie der Erzdiözese Salzburg\n\n\nAuskunft\nMag. Maria Eisl\nReferat für Ehe und Familie\n\n\nTelefon\n0662/879613-12\n\n\nE-Mail\nmaira.eisl@familie.kirchen.net\n\n\nReferent(en)\nElisabeth Rötzer – INER Präsidentin\n\n\nBesonderes\nZielgruppe: Schwangere Frauen zur Vorbereitung auf die Stillzeit sowie Frauen in der Stillzeit \nAnmeldung erforderlich!!!\nwww.familie.kirchen.net – unter Programm und Termine\nmaria.eisl@familie.kirchen.net \nBeitrag:\nSpenden werden erbeten\n\n\n\n
URL:http://www.xn--empfngnis-y2a.com/veranstaltung/ner-in-der-stillzeit/
LOCATION:Dreifaltigkeitsgasse 12\, Salzburg\, 5020\, Österreich
GEO:47.802811;13.0449422
X-APPLE-STRUCTURED-LOCATION;VALUE=URI;X-ADDRESS=Dreifaltigkeitsgasse 12 Salzburg 5020 Österreich;X-APPLE-RADIUS=500;X-TITLE=Dreifaltigkeitsgasse 12:geo:13.0449422,47.802811
END:VEVENT
END:VCALENDAR