BEGIN:VCALENDAR
VERSION:2.0
PRODID:-//empfängnis.com - ECPv4.6.2//NONSGML v1.0//EN
CALSCALE:GREGORIAN
METHOD:PUBLISH
X-WR-CALNAME:empfängnis.com
X-ORIGINAL-URL:http://www.xn--empfngnis-y2a.com
X-WR-CALDESC:Events for empfängnis.com
BEGIN:VEVENT
DTSTART;TZID=Europe/Berlin:20161205T190000
DTEND;TZID=Europe/Berlin:20161205T210000
DTSTAMP:20260421T185740
CREATED:20161122T102635Z
LAST-MODIFIED:20161122T102635Z
UID:1243-1480964400-1480971600@www.xn--empfngnis-y2a.com
SUMMARY:NER - Grundkurs- Tulln
DESCRIPTION:\n\n\n\n\n\nGrundkurs in 3 Teilen\n\n\nTermine\nG1 – Montag\, 07.11.2016\, 19:00 – 21:00G2 – Montag\, 21.11.2016\, 19:00 – 21:00G3 – Montag\, 05.12.2016\, 19:00 – 21:00\n\n\nAdresse\n3430 Tulln\, Junges Hotel\, Marc-Aurelpark 1\, Seminarraum 2\n\n\nVeranstalter\nPastorale Dienste\, Ges.u.Sozialzentrum Tulln\n\n\nAuskunft\nPastorale Dienste\, Bereich Familie\, Angela Hiesinger\n\n\nTelefon\n02742/324/3339\n\n\nE-Mail\na.hiesinger@kirche.at\n\n\nReferent(en)\nElisabeth und Johannes Hackl\n\n\nBesonderes\nAnmeldung erforderlich!\nKursbeitrag: € 60\,- p.Person\, € 65\,- p. Paar incl. Kursunterlagen und Buch! Ermäßigung f. Schülerinnen und Studentinnen € 45\,-\n\n\n\n\n\n
URL:http://www.xn--empfngnis-y2a.com/veranstaltung/ner-grundkurs-tulln/
LOCATION:Marc-Aurelpark 1\, Seminarraum 2\, Tulln\, 3430\, Österreich
GEO:48.3314949;16.060737
X-APPLE-STRUCTURED-LOCATION;VALUE=URI;X-ADDRESS=Marc-Aurelpark 1 Seminarraum 2 Tulln 3430 Österreich;X-APPLE-RADIUS=500;X-TITLE=Marc-Aurelpark 1\, Seminarraum 2:geo:16.060737,48.3314949
END:VEVENT
END:VCALENDAR