BEGIN:VCALENDAR
VERSION:2.0
PRODID:-//empfängnis.com - ECPv4.6.2//NONSGML v1.0//EN
CALSCALE:GREGORIAN
METHOD:PUBLISH
X-WR-CALNAME:empfängnis.com
X-ORIGINAL-URL:http://www.xn--empfngnis-y2a.com
X-WR-CALDESC:Events for empfängnis.com
BEGIN:VEVENT
DTSTART;VALUE=DATE:20160416
DTEND;VALUE=DATE:20160417
DTSTAMP:20260422T021013
CREATED:20160229T150204Z
LAST-MODIFIED:20160229T151527Z
UID:632-1460764800-1460851199@www.xn--empfngnis-y2a.com
SUMMARY:NER Grundkurs als Tageskurs
DESCRIPTION:
URL:http://www.xn--empfngnis-y2a.com/veranstaltung/ner-grundkurs-als-tageskurs/
LOCATION:1150 Wien
GEO:48.1943829;16.3235143
X-APPLE-STRUCTURED-LOCATION;VALUE=URI;X-ADDRESS=1150 Wien;X-APPLE-RADIUS=500;X-TITLE=1150 Wien:geo:16.3235143,48.1943829
ORGANIZER;CN="INER":MAILTO:inerwien@hotmail.com
END:VEVENT
END:VCALENDAR