BEGIN:VCALENDAR
VERSION:2.0
PRODID:-//empfängnis.com - ECPv4.6.2//NONSGML v1.0//EN
CALSCALE:GREGORIAN
METHOD:PUBLISH
X-WR-CALNAME:empfängnis.com
X-ORIGINAL-URL:http://www.xn--empfngnis-y2a.com
X-WR-CALDESC:Events for empfängnis.com
BEGIN:VEVENT
DTSTART;TZID=Europe/Berlin:20191012T090000
DTEND;TZID=Europe/Berlin:20191012T180000
DTSTAMP:20260420T144003
CREATED:20191016T083505Z
LAST-MODIFIED:20191016T083505Z
UID:2539-1570870800-1570903200@www.xn--empfngnis-y2a.com
SUMMARY:NER- Grundkurs als Tageskurs
DESCRIPTION:Pfarrhof Blindenmarkt; 12.10. 9-18 Uhr \nReferenten: Ehepaar Huschka \nAnm: a.hiesinger@kirche.at \n
URL:http://www.xn--empfngnis-y2a.com/veranstaltung/ner-grundkurs-als-tageskurs-3/
END:VEVENT
END:VCALENDAR