BEGIN:VCALENDAR
VERSION:2.0
PRODID:-//empfängnis.com - ECPv4.6.2//NONSGML v1.0//EN
CALSCALE:GREGORIAN
METHOD:PUBLISH
X-WR-CALNAME:empfängnis.com
X-ORIGINAL-URL:http://www.xn--empfngnis-y2a.com
X-WR-CALDESC:Events for empfängnis.com
BEGIN:VEVENT
DTSTART;TZID=Europe/Berlin:20191019T083000
DTEND;TZID=Europe/Berlin:20191019T180000
DTSTAMP:20260420T164536
CREATED:20190930T190526Z
LAST-MODIFIED:20190930T190526Z
UID:2524-1571473800-1571508000@www.xn--empfngnis-y2a.com
SUMMARY:NER: Fortbildung mit Zertifkatsverlängerung
DESCRIPTION:  \n\n\n\nKursart\nFortbildung mit Zertifkatsverlängerung\n\n\nTermine\nMF – Samstag\, 19.10.2019\, 08:30 – 18:00\n\n\nAdresse\n5026 Salzburg\, Gyllenstormstr. 8\, Kolleg St. Josef\n\n\nVeranstalter\nReferat für Ehe und Familie der Erzdiözese Salzburg in Zusammenarbeit mit INER\n\n\nAuskunft\nMag. Maria Eisl\nTel: 0662/879613-12\nmaria.eisl@familie.kirchen.net\nwww.familie.kirchen.net\n\n\nTelefon\n0662/879613-12\n\n\nE-Mail\nmaria.eisl@familie.kirchen.net\n\n\nReferent(en)\nElisabeth Rötzer – Präsidentin INER\nDr. med. Christa Nosko – Oberärztin auf der Gynäkologie und Geburtshilflichen Station im KH Barmherzige Brüder St. Veit/Glan\n\n\nBesonderes\nFür Absolventen des Aufbaulehrganges NER\nAnmeldung unbedingt erforderlich. \nDieser Seminartag soll sowohl der Weiterbildung\, als auch Gelegenheit zum Erfahrungsaustausch bieten\, sowie weitere Vernetzungen ermöglichen.\nFür die Verlängerung des Zertifikates ist eine Teilnahme sowohl am Vormittag als auch am Nachmittag verpflichtend. Es besteht natürlich die Möglichkeit\, ohne Anspruch auf eine Zertifikatsverlängerung\, nur am Nachmittag teilzunehmen.\n\n\n\n
URL:http://www.xn--empfngnis-y2a.com/veranstaltung/ner-fortbildung-mit-zertifkatsverlaengerung/
LOCATION:Gyllenstormstraße 8\, Salzburg\, 5026
END:VEVENT
END:VCALENDAR